BEGIN:VCALENDAR
VERSION:2.0
PRODID:-//QPIRG McGill - ECPv6.15.20//NONSGML v1.0//EN
CALSCALE:GREGORIAN
METHOD:PUBLISH
X-WR-CALNAME:QPIRG McGill
X-ORIGINAL-URL:https://qpirgmcgill.org
X-WR-CALDESC:Events for QPIRG McGill
REFRESH-INTERVAL;VALUE=DURATION:PT1H
X-Robots-Tag:noindex
X-PUBLISHED-TTL:PT1H
BEGIN:VTIMEZONE
TZID:America/Toronto
BEGIN:DAYLIGHT
TZOFFSETFROM:-0500
TZOFFSETTO:-0400
TZNAME:EDT
DTSTART:20220313T070000
END:DAYLIGHT
BEGIN:STANDARD
TZOFFSETFROM:-0400
TZOFFSETTO:-0500
TZNAME:EST
DTSTART:20221106T060000
END:STANDARD
BEGIN:DAYLIGHT
TZOFFSETFROM:-0500
TZOFFSETTO:-0400
TZNAME:EDT
DTSTART:20230312T070000
END:DAYLIGHT
BEGIN:STANDARD
TZOFFSETFROM:-0400
TZOFFSETTO:-0500
TZNAME:EST
DTSTART:20231105T060000
END:STANDARD
BEGIN:DAYLIGHT
TZOFFSETFROM:-0500
TZOFFSETTO:-0400
TZNAME:EDT
DTSTART:20240310T070000
END:DAYLIGHT
BEGIN:STANDARD
TZOFFSETFROM:-0400
TZOFFSETTO:-0500
TZNAME:EST
DTSTART:20241103T060000
END:STANDARD
END:VTIMEZONE
BEGIN:VEVENT
DTSTART;TZID=America/Toronto:20230214T180000
DTEND;TZID=America/Toronto:20230214T210000
DTSTAMP:20260426T002715
CREATED:20230213T200812Z
LAST-MODIFIED:20230307T182233Z
UID:2944-1676397600-1676408400@qpirgmcgill.org
SUMMARY:MMIWGT2S / FFT2EADA Vigil
DESCRIPTION:MMIWGT2S / FFT2EADA Vigil\nOrganized by Iskweu \nLink to the Facebook event. \nRoute\nBeginning: Cabot Square\nEnd: The Baie\, Saint-Catherine\nNO MORE GENOCIDE!\nOn Tuesday \, February 14th\, join us for the 18th Annual Memorial Vigil for Missing and Murdered Indigenous Women\, Girls\, Trans and Two-Spirit People in Tiohtiá:ke (Montreal). A vigil will be held at Cabot Square followed by a march to The Baie on Saint-Catherine. \nWe encourage you to bring your drums and visuals\n.\nThe confirmed speakers\n-Travelling Spirit drums\n-Kevin Deer\n-Ellen Gabriel\n-Liam Kablalik\n-Cheryl Mcdonald\n-Nina S. \n[français ci-dessous]\nMARCH FOR MISSING AND MURDERED INDIGENOUS WOMEN\, GIRLS\, TRANS AND TWO-SPIRIT PEOPLE Monday\, February 14th\, 2023\, 6:00pm STOP THE VIOLENCE! On February 14th 2023\, join us for a Memorial and March for Missing and Murdered Indigenous Women\, Girls\, Trans and Two-Spirit People in Tiohtiá:ke (Montreal). Too many Indigenous families have lost their loved ones to colonial violence. Many Indigenous women\, girls\, trans and Two-Spirit people wonder if they will be next. This can’t go on. In 2019\, the Final Report of the National Inquiry into Missing and Murdered Indigenous Women and Girls was published (https://www.mmiwg-ffada.ca/final-report/). Now is the time to take action. To honour the recommendations on how to stop the genocide against Indigenous communities. We refuse to allow the countless hours of testimony and knowledge that thousands of Indigenous people poured into the inquiry go to waste. We have all the information we need. Let’s join to mobilize and honor the lives of those who are no longer with us. It’s an opportunity to learn from activists and elders\, and to be inspired to action by the songs and performances of Indigenous artists. This event is organized by the Iskweu Project: (a project of the Native Women’s Shelter of Montreal) that aims to reduce and ultimately eradicate the number of missing and murdered Indigenous women and girls (including trans and Two-Spirit). Montreal. TERRITORIAL ACKNOWLEDGEMENT This event takes place on unceded Indigenous lands. \n****************\nMARCHE POUR LES FEMMES\, LES FILLES\, LES TRANS ET LES PERSONNES SPIRIT AUTOCHTONES DISPARUES ET ASSASSINÉES. Lundi 14 février 2023\, 18h00 ARRÊTEZ LA VIOLENCE! Joignez-vous à nous pour un mémorial et une marche pour les femmes\, les filles\, les personnes trans et 2spirit autochtones disparues et assassinées à Tiohtiá:ke (Montréal). Trop de familles autochtones ont perdu des êtres chers à cause de la violence coloniale. De nombreuses femmes\, filles\, personnes trans et bispirituelles autochtones se demandent si elles seront les prochaines. Cela ne peut pas continuer. En 2019\, le rapport final de l’enquête nationale sur les femmes et les filles autochtones disparues et assassinées a été publié (https://www.mmiwg-ffada.ca/final-report/). Il est maintenant temps d’agir. Honorer les recommandations sur la façon d’arrêter le génocide contre les communautés autochtones. Nous refusons que les innombrables heures de témoignages et de connaissances que des milliers d’Autochtones ont consacrées à l’enquête soient gaspillées. Nous avons toutes les informations dont nous avons besoin. Unissons-nous pour nous mobiliser et honorer la vie de ceux qui ne sont plus avec nous. C’est une occasion d’apprendre davantage des militants et des aînés\, et d’être inspiré à prendre de l’action par les chansons et les performances d’artistes autochtones. Cet événement est coorganisé par le Projet Iskweu : (un projet du Foyer pour femmes autochtones de Montréal) qui vise à réduire et ultimement éradiquer le nombre de femmes et de filles autochtones disparues et assassinées (y compris trans et 2spirit). RECONNAISSANCE TERRITORIALE Cet événement se déroule sur des terres autochtones non cédées. \n  \nProjet Iskweu accompagnent la famille lorqu’il y a une disparition d’une femme ou fille autochtone (trans\, two-spirit).
URL:https://qpirgmcgill.org/event/mmiwgt2s-fft2eada-vigil/
ATTACH;FMTTYPE=image/jpeg:https://qpirgmcgill.org/wp-content/uploads/2023/02/326131443_658189232750762_1065942318066759935_n.jpeg
ORGANIZER;CN="Iskweu":MAILTO:coordinator@iskweuproject.com
END:VEVENT
END:VCALENDAR