BEGIN:VCALENDAR
VERSION:2.0
PRODID:-//QPIRG McGill - ECPv6.15.20//NONSGML v1.0//EN
CALSCALE:GREGORIAN
METHOD:PUBLISH
X-ORIGINAL-URL:https://qpirgmcgill.org
X-WR-CALDESC:Events for QPIRG McGill
REFRESH-INTERVAL;VALUE=DURATION:PT1H
X-Robots-Tag:noindex
X-PUBLISHED-TTL:PT1H
BEGIN:VTIMEZONE
TZID:America/Toronto
BEGIN:DAYLIGHT
TZOFFSETFROM:-0500
TZOFFSETTO:-0400
TZNAME:EDT
DTSTART:20220313T070000
END:DAYLIGHT
BEGIN:STANDARD
TZOFFSETFROM:-0400
TZOFFSETTO:-0500
TZNAME:EST
DTSTART:20221106T060000
END:STANDARD
BEGIN:DAYLIGHT
TZOFFSETFROM:-0500
TZOFFSETTO:-0400
TZNAME:EDT
DTSTART:20230312T070000
END:DAYLIGHT
BEGIN:STANDARD
TZOFFSETFROM:-0400
TZOFFSETTO:-0500
TZNAME:EST
DTSTART:20231105T060000
END:STANDARD
BEGIN:DAYLIGHT
TZOFFSETFROM:-0500
TZOFFSETTO:-0400
TZNAME:EDT
DTSTART:20240310T070000
END:DAYLIGHT
BEGIN:STANDARD
TZOFFSETFROM:-0400
TZOFFSETTO:-0500
TZNAME:EST
DTSTART:20241103T060000
END:STANDARD
END:VTIMEZONE
BEGIN:VEVENT
DTSTART;TZID=America/Toronto:20230315T140000
DTEND;TZID=America/Toronto:20230315T153000
DTSTAMP:20260425T230214
CREATED:20230301T215922Z
LAST-MODIFIED:20230309T191952Z
UID:2968-1678888800-1678894200@qpirgmcgill.org
SUMMARY:Un(PAC)k: Digital Diasporas
DESCRIPTION:un(PAC)k: Digital Diasporas\n \nA guided discussion circle where we will unpack our relationships to and conception of Diaspora and Community through the lens of the Internet and technology more broadly. The discussion will be 1 to 1.5 hours long and is open to all BIPOC. The Pan-Asian Collective (@pacmtl) is a working group of QPIRG-McGill and QPIRG-Concordia based in Tiohtià:ke. We aim to empower and grow the intersectional Asian community. For us by us 💛 \nMarch 15th\, 2-3:30pm at Bar Milton-Parc \nThis event is part of our week-long event series\, Spring into Action\, which will take place from March 10-22. Stay tuned as we post more events this week! \nAccessibility \n\nThe space at Bar Milton Parc is wheelchair accessible.\nThere is a wheelchair accessible\, non-gendered bathroom\n\nun(PAC)k : Diasporas numériques\nUn cercle de discussion guidée où nous examinerons collectivement nos relations et notre conception de la diaspora et de la communauté à travers le prisme d’Internet et de la technologie en général. La discussion sera d’entre une heure et une heure et demie et est ouverte à toutes les personnes concernées. Le Pan-Asian Collective (@pacmtl) est un groupe de travail de QPIRG-McGill et QPIRG-Concordia basé à Tiohtià:ke. Notre objectif est de renforcer et de développer la communauté asiatique intersectionnelle. Pour nous par nous 💛 \n15 mars\, 2-3h30 au Bar Milton-Parc \nCet événement fait partie de notre série d’événements de deux semaines\, Spring into Action\, qui aura lieu du 10 au 22 mars. Restez à l’écoute car nous publierons d’autres événements cette semaine !
URL:https://qpirgmcgill.org/event/unpack-digital-diasporas/
LOCATION:Bar Milton-Parc\, 3714 Avenue du Parc\, Montreal\, Quebec\, H2V 4J9\, Canada
CATEGORIES:Spring into Action 2023
ATTACH;FMTTYPE=image/png:https://qpirgmcgill.org/wp-content/uploads/2023/03/7.png
END:VEVENT
BEGIN:VEVENT
DTSTART;TZID=America/Toronto:20230315T180000
DTEND;TZID=America/Toronto:20230315T193000
DTSTAMP:20260425T230214
CREATED:20230306T182021Z
LAST-MODIFIED:20230309T191819Z
UID:2992-1678903200-1678908600@qpirgmcgill.org
SUMMARY:Recognizing misinformation in the age of social media
DESCRIPTION:Recognizing misinformation in the age of social media: approaching the news with a critical\, anti-imperial perspective\n \nwith CUTV Montreal\nMarch 15th\, 6-7:30pm at Le Frigo Vert @lefrigovert \nThis workshop will look at issues of misinformation and the negative impacts of it\, break down how to be aware of it\, and go over journalists’ methods for fact checking while researching. The workshop will also look at examples of coverage in Canadian media that is tainted by things like zionism or imperialism\, how the use of language can affect the way a story is told and interpreted\, and how to be cognizant of this type of coverage so that we can be careful while reading a story and before resharing it. \nThis workshop will be hosted by Local 514 host and journalist Savanna Craig. Local 514 is a biweekly web series produced by CUTV Montreal\, a grassroots community television station. Local 514 covers local social justice issues and critique decisions by municipal\, provincial and the national government(s). Savanna Craig researches\, writes\, hosts and edits Local 514 alongside a team. She is a freelance journalist focused on issues covering imperialism\, housing and more. She graduated from Concordia’s journalism program in 2020. \nThis event is part of our week-long event series\, Spring into Action\, which will take place from March 10-22. Stay tuned as we post more events this week! Visit qpirgmcgill.org/spring-into-action to learn more \nAccessibility \n\nThe space at Le Frigo Vert is wheelchair accessible.\nThere is a wheelchair accessible\, non-gendered bathroom
URL:https://qpirgmcgill.org/event/recognizing-misinformation-in-the-age-of-social-media/
LOCATION:Le Frigo Vert\, 1440 rue Mackay\, Montreal\, QC\, Canada
CATEGORIES:Spring into Action 2023
ATTACH;FMTTYPE=image/png:https://qpirgmcgill.org/wp-content/uploads/2023/03/9.png
END:VEVENT
END:VCALENDAR