BEGIN:VCALENDAR
VERSION:2.0
PRODID:-//QPIRG McGill - ECPv6.15.20//NONSGML v1.0//EN
CALSCALE:GREGORIAN
METHOD:PUBLISH
X-WR-CALNAME:QPIRG McGill
X-ORIGINAL-URL:https://qpirgmcgill.org
X-WR-CALDESC:Events for QPIRG McGill
REFRESH-INTERVAL;VALUE=DURATION:PT1H
X-Robots-Tag:noindex
X-PUBLISHED-TTL:PT1H
BEGIN:VTIMEZONE
TZID:America/Toronto
BEGIN:DAYLIGHT
TZOFFSETFROM:-0500
TZOFFSETTO:-0400
TZNAME:EDT
DTSTART:20220313T070000
END:DAYLIGHT
BEGIN:STANDARD
TZOFFSETFROM:-0400
TZOFFSETTO:-0500
TZNAME:EST
DTSTART:20221106T060000
END:STANDARD
BEGIN:DAYLIGHT
TZOFFSETFROM:-0500
TZOFFSETTO:-0400
TZNAME:EDT
DTSTART:20230312T070000
END:DAYLIGHT
BEGIN:STANDARD
TZOFFSETFROM:-0400
TZOFFSETTO:-0500
TZNAME:EST
DTSTART:20231105T060000
END:STANDARD
BEGIN:DAYLIGHT
TZOFFSETFROM:-0500
TZOFFSETTO:-0400
TZNAME:EDT
DTSTART:20240310T070000
END:DAYLIGHT
BEGIN:STANDARD
TZOFFSETFROM:-0400
TZOFFSETTO:-0500
TZNAME:EST
DTSTART:20241103T060000
END:STANDARD
END:VTIMEZONE
BEGIN:VEVENT
DTSTART;TZID=America/Toronto:20230322T170000
DTEND;TZID=America/Toronto:20230322T180000
DTSTAMP:20260425T230136
CREATED:20230309T222005Z
LAST-MODIFIED:20230313T195002Z
UID:3130-1679504400-1679508000@qpirgmcgill.org
SUMMARY:Ultraviolet Waves: The Spectrum of Futurisms
DESCRIPTION:Ultraviolet Waves: The Spectrum of Futurisms\n \n  \nMarch 22nd\, 5-6pm on Zoom. \nRegister on Zoom here to attend the workshop. \nA workshop on voice amplification\, image making and cognitive dissonance. \nThis workshop will focus on the following:\n1) demystifying immersive technologies (how do we stray from being just a consumer or in the dark? how do we engage proactively?)\n2) being reflective of late stage representation (what are we beyond our identities and how do we offer parts of ourselves consensually?)\n3) developing strategies of critical mass activism\n\n\n\nAndi Vicente (they/them) is an artist currently based in Tiohtiá:ke/Montreal. Their interdisciplinary practice consists of working with different communities and broadening an understanding of oppressed experiences. Through installation\, writing\, collage/image making\, Andi strives to encourage collective empowerment through the answering of the questions “Who is not here with us?” and “How can I be there for you?”\n\nThey are the book Bitter Melanin – http://anakpublishing.ca/BitterMelanin.html\nYou can also review their work here:\nhttps://andivicente.com/\n@andivice on Instagram.
URL:https://qpirgmcgill.org/event/ultraviolet-waves-the-spectrum-of-futurisms/
CATEGORIES:Spring into Action 2023
ATTACH;FMTTYPE=image/png:https://qpirgmcgill.org/wp-content/uploads/2023/03/ultraviolet-waves-wide.png
END:VEVENT
BEGIN:VEVENT
DTSTART;TZID=America/Toronto:20230322T190000
DTEND;TZID=America/Toronto:20230322T233000
DTSTAMP:20260425T230136
CREATED:20230309T233035Z
LAST-MODIFIED:20230313T193011Z
UID:3115-1679511600-1679527800@qpirgmcgill.org
SUMMARY:Empowered Expressions: Open Mic and Dance Party
DESCRIPTION:Empowered Expressions: Open Mic and Dance Party\n \n  \nAn evening of entertainment\, empowerment and celebration of Black Trans musicians. The event will start off with an open mic session\, open to everyone who wants to showcase their talents and share their stories with the audience. \nAfter the open mic\, the event will transition into a live music and dance party\, with performances from some of the best Black Trans musicians in the area. \nFeaturing performances by Apollin\, Mx Holmes\, and Blxck Cxsper. \nMarch 22nd at Théâtre Sainte-Catherine \nDoors at 7pm\, 8pm to close. \nTickets are free! \nTo perform at the open mic please register at bit.ly/empoweredexpressions \nBiography of the host: \nTrans Trenderz is the world’s first record label dedicated to uplifting trans musicians. We are based in Montreal with ties to New York City and have been organizing trans-centered events for half a decade\, including the world’s first music awards show dedicated to trans musicians: the Trans Trenderz Music Awards; in Brooklyn in 2019. \nThe person sending this email is Kyng Rose aka Blxck Cxsper\, I’m a Black biracial multi-disciplinary artist and founder of Trans Trenderz. My work has been mentioned by some of the biggest music publications in the world including Billboard\, Grammy\, Much Music\, eTalk and more! \nAccessibility: \n\nThéâtre Sainte-Catherine is a wheelchair accessible venue.\nThere are wheelchair accessible and gender neutral bathrooms.
URL:https://qpirgmcgill.org/event/empowered-expressions-open-mic-and-dance-party/
LOCATION:Théâtre Sainte-Catherine\, 264 St Catherine St E\, Montreal\, QC\, Canada
CATEGORIES:Spring into Action 2023
ATTACH;FMTTYPE=image/jpeg:https://qpirgmcgill.org/wp-content/uploads/2023/03/empowered-expressions.jpg
END:VEVENT
END:VCALENDAR