BEGIN:VCALENDAR
VERSION:2.0
PRODID:-//QPIRG McGill - ECPv6.15.20//NONSGML v1.0//EN
CALSCALE:GREGORIAN
METHOD:PUBLISH
X-WR-CALNAME:QPIRG McGill
X-ORIGINAL-URL:https://qpirgmcgill.org
X-WR-CALDESC:Events for QPIRG McGill
REFRESH-INTERVAL;VALUE=DURATION:PT1H
X-Robots-Tag:noindex
X-PUBLISHED-TTL:PT1H
BEGIN:VTIMEZONE
TZID:America/Toronto
BEGIN:DAYLIGHT
TZOFFSETFROM:-0500
TZOFFSETTO:-0400
TZNAME:EDT
DTSTART:20220313T070000
END:DAYLIGHT
BEGIN:STANDARD
TZOFFSETFROM:-0400
TZOFFSETTO:-0500
TZNAME:EST
DTSTART:20221106T060000
END:STANDARD
BEGIN:DAYLIGHT
TZOFFSETFROM:-0500
TZOFFSETTO:-0400
TZNAME:EDT
DTSTART:20230312T070000
END:DAYLIGHT
BEGIN:STANDARD
TZOFFSETFROM:-0400
TZOFFSETTO:-0500
TZNAME:EST
DTSTART:20231105T060000
END:STANDARD
BEGIN:DAYLIGHT
TZOFFSETFROM:-0500
TZOFFSETTO:-0400
TZNAME:EDT
DTSTART:20240310T070000
END:DAYLIGHT
BEGIN:STANDARD
TZOFFSETFROM:-0400
TZOFFSETTO:-0500
TZNAME:EST
DTSTART:20241103T060000
END:STANDARD
END:VTIMEZONE
BEGIN:VEVENT
DTSTART;TZID=America/Toronto:20231016T180000
DTEND;TZID=America/Toronto:20231016T200000
DTSTAMP:20260425T124200
CREATED:20231017T170738Z
LAST-MODIFIED:20231017T170738Z
UID:3350-1697479200-1697486400@qpirgmcgill.org
SUMMARY:Food Insecurity: Reasons\, Those Affected and What Can Be Done to Help Food Sovereignty in Action
DESCRIPTION:Food Insecurity: Reasons\, Those Affected and What Can Be Done to Help Food Sovereignty in Action\nJoin QPIRG-McGill for a panel on food insecurity on October 16th! We will be discussing the issue of food insecurity and its impact on oppressed groups\, the history of our food system\, and strategies for improving food security in our communities. \nDate: October 16\, 6-8pm \nLocation: SSMU Ballroom (3480 rue McTavish\, Room 301) \nSpeakers:\nProf. Erik Chevrier (Concordia Food Coalition)\nSona Sadio (Sankofa Farming)\nAyub Alleyne (Sister Sabria) \nModerator:\nNat Alexander (Midnight Kitchen) \nRegister here
URL:https://qpirgmcgill.org/event/food-insecurity-reasons-those-affected-and-what-can-be-done-to-help-food-sovereignty-in-action/
LOCATION:SSMU Ballroom\, 301-3480 rue McTavish\, Montreal\, Quebec\, Canada
CATEGORIES:Culture Shock 2023
ATTACH;FMTTYPE=image/png:https://qpirgmcgill.org/wp-content/uploads/2023/10/food-insecurity-panel-05-1.png
END:VEVENT
END:VCALENDAR