BEGIN:VCALENDAR
VERSION:2.0
PRODID:-//QPIRG McGill - ECPv6.15.20//NONSGML v1.0//EN
CALSCALE:GREGORIAN
METHOD:PUBLISH
X-ORIGINAL-URL:https://qpirgmcgill.org
X-WR-CALDESC:Events for QPIRG McGill
REFRESH-INTERVAL;VALUE=DURATION:PT1H
X-Robots-Tag:noindex
X-PUBLISHED-TTL:PT1H
BEGIN:VTIMEZONE
TZID:America/Toronto
BEGIN:DAYLIGHT
TZOFFSETFROM:-0500
TZOFFSETTO:-0400
TZNAME:EDT
DTSTART:20230312T070000
END:DAYLIGHT
BEGIN:STANDARD
TZOFFSETFROM:-0400
TZOFFSETTO:-0500
TZNAME:EST
DTSTART:20231105T060000
END:STANDARD
BEGIN:DAYLIGHT
TZOFFSETFROM:-0500
TZOFFSETTO:-0400
TZNAME:EDT
DTSTART:20240310T070000
END:DAYLIGHT
BEGIN:STANDARD
TZOFFSETFROM:-0400
TZOFFSETTO:-0500
TZNAME:EST
DTSTART:20241103T060000
END:STANDARD
BEGIN:DAYLIGHT
TZOFFSETFROM:-0500
TZOFFSETTO:-0400
TZNAME:EDT
DTSTART:20250309T070000
END:DAYLIGHT
BEGIN:STANDARD
TZOFFSETFROM:-0400
TZOFFSETTO:-0500
TZNAME:EST
DTSTART:20251102T060000
END:STANDARD
END:VTIMEZONE
BEGIN:VEVENT
DTSTART;TZID=America/Toronto:20241025T173000
DTEND;TZID=America/Toronto:20241025T193000
DTSTAMP:20260424T183252
CREATED:20240930T182010Z
LAST-MODIFIED:20240930T182010Z
UID:4032-1729877400-1729884600@qpirgmcgill.org
SUMMARY:Zine Making with Prisoner Correspondence Project
DESCRIPTION:Zine Making with Prisoner Correspondence Project\nAn all-in-one primer of what you need to know about zines\, their historic role in leftist movements\, and their current relevance in the age of Information. This workshop will be facilitated by volunteers from Prisoner Correspondence Project (PCP). \nPlus: make your own zine with provided materials\, and check out samples from the zine libraries of QPIRG-McGill\, QPIRG Concordia\, and PCP. \nPrisoner Correspondence Project (PCP) is a solidarity project for 2SLGBTQ+ prisoners in Canada and the United States\, linking them with people a part of these same communities outside of prison. As part of our work\, we distribute hundreds of zines covering many\, many topics – from gay smut to safer tattooing to legal aid – per year to queer prisoners who request them from our library. \nOctober 25\, 5:30pm \nQPIRG Concordia (2100 rue Guy\, #205) \nThis event is part of Culture Shock 2024! Culture Shock is an annual event series on anti-racism\, migrant justice\, and Indigenous solidarity. It seeks to bring together racialized communities to discuss issues relevant to their lives\, as well as to allow those who do not belong to these communities to learn more about struggles against racism\, colonialism and border violence. Every year\, QPIRG brings panels\, workshops\, film screenings\, performance nights and fundraiser parties to McGill students and broader Montreal communities. \nCulture Shock 2024 will take place from October 21st to 30th. For more information\, visit qpirgmcgill.org/cs \nAccessibility: \nThe entrance at 2100 Guy has one flight of stairs. For step-free access\, use the entrance at 1625 de Maisonneuve Ouest. Buzz #0205 to be let through the automatic doors\, then take the elevator up to the second floor. The door to our space can be opened by automated button\, and swings out. \nThere is a paid parking lot beside our building\, entrance on Guy. \nA list of other spaces downtown (Ville-Marie borough) reserved for people who have the blue-and-white parking permit can be found here: http://www.statdemtl.qc.ca/index.php?page_id=322&lang=en#sondage
URL:https://qpirgmcgill.org/event/zine-making/
LOCATION:QPIRG-Concordia\, 2100 rue Guy\, #205\, Montreal\, QC\, H3H 2M8\, Canada
CATEGORIES:Culture Shock 2024
ATTACH;FMTTYPE=image/png:https://qpirgmcgill.org/wp-content/uploads/2024/09/Culture-Shock-2024-posts-1920-x-1080-px.png
END:VEVENT
END:VCALENDAR