BEGIN:VCALENDAR
VERSION:2.0
PRODID:-//QPIRG McGill - ECPv6.15.20//NONSGML v1.0//EN
CALSCALE:GREGORIAN
METHOD:PUBLISH
X-ORIGINAL-URL:https://qpirgmcgill.org
X-WR-CALDESC:Events for QPIRG McGill
REFRESH-INTERVAL;VALUE=DURATION:PT1H
X-Robots-Tag:noindex
X-PUBLISHED-TTL:PT1H
BEGIN:VTIMEZONE
TZID:America/Toronto
BEGIN:DAYLIGHT
TZOFFSETFROM:-0500
TZOFFSETTO:-0400
TZNAME:EDT
DTSTART:20240310T070000
END:DAYLIGHT
BEGIN:STANDARD
TZOFFSETFROM:-0400
TZOFFSETTO:-0500
TZNAME:EST
DTSTART:20241103T060000
END:STANDARD
BEGIN:DAYLIGHT
TZOFFSETFROM:-0500
TZOFFSETTO:-0400
TZNAME:EDT
DTSTART:20250309T070000
END:DAYLIGHT
BEGIN:STANDARD
TZOFFSETFROM:-0400
TZOFFSETTO:-0500
TZNAME:EST
DTSTART:20251102T060000
END:STANDARD
BEGIN:DAYLIGHT
TZOFFSETFROM:-0500
TZOFFSETTO:-0400
TZNAME:EDT
DTSTART:20260308T070000
END:DAYLIGHT
BEGIN:STANDARD
TZOFFSETFROM:-0400
TZOFFSETTO:-0500
TZNAME:EST
DTSTART:20261101T060000
END:STANDARD
END:VTIMEZONE
BEGIN:VEVENT
DTSTART;TZID=America/Toronto:20250731T203000
DTEND;TZID=America/Toronto:20250819T223000
DTSTAMP:20260424T041443
CREATED:20250819T201502Z
LAST-MODIFIED:20250819T201557Z
UID:4906-1753993800-1755642600@qpirgmcgill.org
SUMMARY:Parade: Queer Acts of Love and Resistance
DESCRIPTION:Parade: Queer Acts of Love and Resistance\nJoin us for our next QPIRG summer film screening of Parade: Queer Acts of Love and Resistance. We will be screening this film outdoors\, in the backyard of 3516 Av du Parc\, on July 31st at 8:30pm \nThere will be free popcorn and cold beverages! \n“Unflinching\, bold\, enraging\, hopeful […] a vital new chapter in the queer canon […] pivotal moments that sparked Canada’s 2SLGBTQI+ movement and honouring the activists whose resistance led to the rights we have today.” \nThis film is provided courtesy of the National Film Board of Canada.
URL:https://qpirgmcgill.org/event/parade-queer-acts-of-love-and-resistance/
LOCATION:QPIRG-McGill\, 3516 Avenue du Parc\, Montreal\, QC\, H2X 2H7\, Canada
END:VEVENT
END:VCALENDAR