BEGIN:VCALENDAR
VERSION:2.0
PRODID:-//QPIRG McGill - ECPv6.15.20//NONSGML v1.0//EN
CALSCALE:GREGORIAN
METHOD:PUBLISH
X-ORIGINAL-URL:https://qpirgmcgill.org
X-WR-CALDESC:Events for QPIRG McGill
REFRESH-INTERVAL;VALUE=DURATION:PT1H
X-Robots-Tag:noindex
X-PUBLISHED-TTL:PT1H
BEGIN:VTIMEZONE
TZID:America/Toronto
BEGIN:DAYLIGHT
TZOFFSETFROM:-0500
TZOFFSETTO:-0400
TZNAME:EDT
DTSTART:20240310T070000
END:DAYLIGHT
BEGIN:STANDARD
TZOFFSETFROM:-0400
TZOFFSETTO:-0500
TZNAME:EST
DTSTART:20241103T060000
END:STANDARD
BEGIN:DAYLIGHT
TZOFFSETFROM:-0500
TZOFFSETTO:-0400
TZNAME:EDT
DTSTART:20250309T070000
END:DAYLIGHT
BEGIN:STANDARD
TZOFFSETFROM:-0400
TZOFFSETTO:-0500
TZNAME:EST
DTSTART:20251102T060000
END:STANDARD
BEGIN:DAYLIGHT
TZOFFSETFROM:-0500
TZOFFSETTO:-0400
TZNAME:EDT
DTSTART:20260308T070000
END:DAYLIGHT
BEGIN:STANDARD
TZOFFSETFROM:-0400
TZOFFSETTO:-0500
TZNAME:EST
DTSTART:20261101T060000
END:STANDARD
END:VTIMEZONE
BEGIN:VEVENT
DTSTART;TZID=America/Toronto:20251023T160000
DTEND;TZID=America/Toronto:20251023T180000
DTSTAMP:20260424T012212
CREATED:20251015T175951Z
LAST-MODIFIED:20251017T165809Z
UID:4994-1761235200-1761242400@qpirgmcgill.org
SUMMARY:Walking as method: Exploring hostile design in Milton-Parc
DESCRIPTION:Walking as method: Exploring hostile design in Milton-Parc\nThis workshop introduces walking/ rolling as a research method while exploring how design shapes access\, safety\, and inclusion in the Milton-Parc neighbourhood. This workshop will encourage participants to reflect on how design\, policing\, and city policies impacts inclusion and will question who has the right to access public space.\nFacilitated by Cara Chellew\, PhD Candidate in Urban Planning\, Policy & Design\, McGill University \nOctober 23rd\, 4-6pm \nMeeting point: QPIRG-McGill Backyard (3516 Ave du Parc)\, accessible by the back alley which can be reached by Milton.
URL:https://qpirgmcgill.org/event/walking-as-method-exploring-hostile-design-in-milton-parc/
LOCATION:QPIRG-McGill Alternative Library\, 3516 Avenue du Parc\, Montreal\, Quebec\, H2X 2H7\, Canada
CATEGORIES:Culture Shock 2025
END:VEVENT
END:VCALENDAR