BEGIN:VCALENDAR
VERSION:2.0
PRODID:-//QPIRG McGill - ECPv6.15.20//NONSGML v1.0//EN
CALSCALE:GREGORIAN
METHOD:PUBLISH
X-WR-CALNAME:QPIRG McGill
X-ORIGINAL-URL:https://qpirgmcgill.org
X-WR-CALDESC:Events for QPIRG McGill
REFRESH-INTERVAL;VALUE=DURATION:PT1H
X-Robots-Tag:noindex
X-PUBLISHED-TTL:PT1H
BEGIN:VTIMEZONE
TZID:America/Toronto
BEGIN:DAYLIGHT
TZOFFSETFROM:-0500
TZOFFSETTO:-0400
TZNAME:EDT
DTSTART:20240310T070000
END:DAYLIGHT
BEGIN:STANDARD
TZOFFSETFROM:-0400
TZOFFSETTO:-0500
TZNAME:EST
DTSTART:20241103T060000
END:STANDARD
BEGIN:DAYLIGHT
TZOFFSETFROM:-0500
TZOFFSETTO:-0400
TZNAME:EDT
DTSTART:20250309T070000
END:DAYLIGHT
BEGIN:STANDARD
TZOFFSETFROM:-0400
TZOFFSETTO:-0500
TZNAME:EST
DTSTART:20251102T060000
END:STANDARD
BEGIN:DAYLIGHT
TZOFFSETFROM:-0500
TZOFFSETTO:-0400
TZNAME:EDT
DTSTART:20260308T070000
END:DAYLIGHT
BEGIN:STANDARD
TZOFFSETFROM:-0400
TZOFFSETTO:-0500
TZNAME:EST
DTSTART:20261101T060000
END:STANDARD
END:VTIMEZONE
BEGIN:VEVENT
DTSTART;TZID=America/Toronto:20251028T180000
DTEND;TZID=America/Toronto:20251028T200000
DTSTAMP:20260423T234504
CREATED:20251015T163026Z
LAST-MODIFIED:20251022T182630Z
UID:4979-1761674400-1761681600@qpirgmcgill.org
SUMMARY:Textures of the land: Reconnecting with our roots.
DESCRIPTION:Textures of the land: Reconnecting with our roots\nWith Charly Cartier \nThis event is for QTBIPOC (Queer\, Trans\, Black\, Indigenous\, People of Colour). Register here to attend. \nAn artistic exploration workshop and conversation. This event invites Queer members of the BIPOC community in a discussion around ancestry\, land\, pre/de colonialism\, belonging\, home etc. The discussion will be launched by a short film\, opening the conversation. You will then be guided into a mirror collage workshop\, creating a unique piece to take home with you. \nCharly is a queer multidisciplinary immigrant artist living in Montreal. Their art focuses on belonging and being unapologetically themselves. Their homelands (Mauritius\, Madagascar and Reunion) feeds their artistic practice in many ways. Charly ran multiple workshops in their professional and artistic life\, where they pride themselves on prioritizing a safe space and accessibility for Queer BIPOC community members \nTuesday\, October 28\, 6-8pm\nMaison de l’Amitié\, room 14 (120 Duluth Ave E) \nAccessibility:
URL:https://qpirgmcgill.org/event/textures-of-the-land-reconnecting-with-our-roots/
LOCATION:Maison de l’Amitié\, 120 Duluth Ave E\, Montreal\, QC\, Canada
CATEGORIES:Culture Shock 2025
END:VEVENT
END:VCALENDAR