BEGIN:VCALENDAR
VERSION:2.0
PRODID:-//QPIRG McGill - ECPv6.15.20//NONSGML v1.0//EN
CALSCALE:GREGORIAN
METHOD:PUBLISH
X-WR-CALNAME:QPIRG McGill
X-ORIGINAL-URL:https://qpirgmcgill.org
X-WR-CALDESC:Events for QPIRG McGill
REFRESH-INTERVAL;VALUE=DURATION:PT1H
X-Robots-Tag:noindex
X-PUBLISHED-TTL:PT1H
BEGIN:VTIMEZONE
TZID:America/Toronto
BEGIN:DAYLIGHT
TZOFFSETFROM:-0500
TZOFFSETTO:-0400
TZNAME:EDT
DTSTART:20250309T070000
END:DAYLIGHT
BEGIN:STANDARD
TZOFFSETFROM:-0400
TZOFFSETTO:-0500
TZNAME:EST
DTSTART:20251102T060000
END:STANDARD
BEGIN:DAYLIGHT
TZOFFSETFROM:-0500
TZOFFSETTO:-0400
TZNAME:EDT
DTSTART:20260308T070000
END:DAYLIGHT
BEGIN:STANDARD
TZOFFSETFROM:-0400
TZOFFSETTO:-0500
TZNAME:EST
DTSTART:20261101T060000
END:STANDARD
BEGIN:DAYLIGHT
TZOFFSETFROM:-0500
TZOFFSETTO:-0400
TZNAME:EDT
DTSTART:20270314T070000
END:DAYLIGHT
BEGIN:STANDARD
TZOFFSETFROM:-0400
TZOFFSETTO:-0500
TZNAME:EST
DTSTART:20271107T060000
END:STANDARD
END:VTIMEZONE
BEGIN:VEVENT
DTSTART;TZID=America/Toronto:20260324T173000
DTEND;TZID=America/Toronto:20260324T193000
DTSTAMP:20260423T174705
CREATED:20260316T173614Z
LAST-MODIFIED:20260316T173756Z
UID:5199-1774373400-1774380600@qpirgmcgill.org
SUMMARY:Neighbourhood Solidarity
DESCRIPTION:At a time where police violence\, modern surveillance tactics\, and the criminalization of migrants are intensifying\, how do we work collectively to prepare to take care of each other\, communicate with each other\, and organize together? In the face of late fascism and global oppression\, across borders and movements\, it’s more important than ever to build networks to act from and foundations of care that support our shared goals. \nThis workshop provides a facilitated discussion reflecting on the common struggle\, offering practices of collective preparedness and tangible actions that we can take to be stronger together locally in the face of broad structural oppressive factors. We will be discussing neighbourhood solidarity groups as a form of resistance. This includes knowing your neighbours and supporting them when police/anti-immigration procedures/landlords are at their doors\, alternative communication methods\, and mutual aid food and resource projects. \nJoin us for this crucial workshop on March 24th at 5:30pm! \nArts Building\, W-25 \n853 rue Sherbrooke O \n5:30-7:30pm \nAccessibility: \nThe Arts Building is accessible by wheelchair via the Leacock Building (855 rue Sherbrooke O). There are accessible bathrooms on the ground floor of the Leacock Building.
URL:https://qpirgmcgill.org/event/neighbourhood-solidarity/
LOCATION:Arts W-25\, 853 Sherbrooke Ouest\, Montreal\, Canada
CATEGORIES:Spring into Action 2026
ATTACH;FMTTYPE=image/png:https://qpirgmcgill.org/wp-content/uploads/2026/02/2026-02-Spring-into-Action-Graphic-Wide-1920-x-1080px-1.png
END:VEVENT
END:VCALENDAR