BEGIN:VCALENDAR
VERSION:2.0
PRODID:-//QPIRG McGill - ECPv6.15.20//NONSGML v1.0//EN
CALSCALE:GREGORIAN
METHOD:PUBLISH
X-ORIGINAL-URL:https://qpirgmcgill.org
X-WR-CALDESC:Events for QPIRG McGill
REFRESH-INTERVAL;VALUE=DURATION:PT1H
X-Robots-Tag:noindex
X-PUBLISHED-TTL:PT1H
BEGIN:VTIMEZONE
TZID:America/Toronto
BEGIN:DAYLIGHT
TZOFFSETFROM:-0500
TZOFFSETTO:-0400
TZNAME:EDT
DTSTART:20250309T070000
END:DAYLIGHT
BEGIN:STANDARD
TZOFFSETFROM:-0400
TZOFFSETTO:-0500
TZNAME:EST
DTSTART:20251102T060000
END:STANDARD
BEGIN:DAYLIGHT
TZOFFSETFROM:-0500
TZOFFSETTO:-0400
TZNAME:EDT
DTSTART:20260308T070000
END:DAYLIGHT
BEGIN:STANDARD
TZOFFSETFROM:-0400
TZOFFSETTO:-0500
TZNAME:EST
DTSTART:20261101T060000
END:STANDARD
BEGIN:DAYLIGHT
TZOFFSETFROM:-0500
TZOFFSETTO:-0400
TZNAME:EDT
DTSTART:20270314T070000
END:DAYLIGHT
BEGIN:STANDARD
TZOFFSETFROM:-0400
TZOFFSETTO:-0500
TZNAME:EST
DTSTART:20271107T060000
END:STANDARD
END:VTIMEZONE
BEGIN:VEVENT
DTSTART;TZID=America/Toronto:20260325T183000
DTEND;TZID=America/Toronto:20260325T203000
DTSTAMP:20260423T174853
CREATED:20260225T214743Z
LAST-MODIFIED:20260225T214857Z
UID:5178-1774463400-1774470600@qpirgmcgill.org
SUMMARY:Manthan Film Screening
DESCRIPTION:Join us on March 25th from 6:30 pm at McEng 12 alongside South Asian Diaspora Action Collective (SADAC)\, QPIRG-Concordia\, and the Association of McGill University Support Employees (AMUSE) to watch MANTHAN (1976). This film is a fictionalized account of the extraordinary dairy cooperative movement that transformed India from a milk-deficient nation to the world’s largest milk producer. It is also India’s first crowdfunded film\, produced by 500\,000 dairy farmers who contributed two rupees each toward the production. Afterwards\, organizers from SADAC will lead a discussion on labour\, gender\, caste\, and community organizing in India. \nMANTHAN (1976)\nDirected by Shyam Benegal\nRuntime 134 minutes\nVOSTA \nMcConnell Engineering\, Room 12 \n3480 rue University \nAccessibility: \nThe McConnell Engineering building is wheelchair accessible via the doors closest to rue Milton\, just past the Milton Gates to enter McGill campus.
URL:https://qpirgmcgill.org/event/manthan-film-screening/
LOCATION:McConnell Engineering\, Room 12\, 3480 rue University\, Montreal\, QC\, Canada
CATEGORIES:Spring into Action 2026
ATTACH;FMTTYPE=image/png:https://qpirgmcgill.org/wp-content/uploads/2026/02/2026-02-Spring-into-Action-Graphic-Wide-1920-x-1080px-1.png
END:VEVENT
END:VCALENDAR