BEGIN:VCALENDAR
VERSION:2.0
PRODID:-//QPIRG McGill - ECPv6.15.20//NONSGML v1.0//EN
CALSCALE:GREGORIAN
METHOD:PUBLISH
X-ORIGINAL-URL:https://qpirgmcgill.org
X-WR-CALDESC:Events for QPIRG McGill
REFRESH-INTERVAL;VALUE=DURATION:PT1H
X-Robots-Tag:noindex
X-PUBLISHED-TTL:PT1H
BEGIN:VTIMEZONE
TZID:America/Toronto
BEGIN:DAYLIGHT
TZOFFSETFROM:-0500
TZOFFSETTO:-0400
TZNAME:EDT
DTSTART:20230312T070000
END:DAYLIGHT
BEGIN:STANDARD
TZOFFSETFROM:-0400
TZOFFSETTO:-0500
TZNAME:EST
DTSTART:20231105T060000
END:STANDARD
BEGIN:DAYLIGHT
TZOFFSETFROM:-0500
TZOFFSETTO:-0400
TZNAME:EDT
DTSTART:20240310T070000
END:DAYLIGHT
BEGIN:STANDARD
TZOFFSETFROM:-0400
TZOFFSETTO:-0500
TZNAME:EST
DTSTART:20241103T060000
END:STANDARD
BEGIN:DAYLIGHT
TZOFFSETFROM:-0500
TZOFFSETTO:-0400
TZNAME:EDT
DTSTART:20250309T070000
END:DAYLIGHT
BEGIN:STANDARD
TZOFFSETFROM:-0400
TZOFFSETTO:-0500
TZNAME:EST
DTSTART:20251102T060000
END:STANDARD
END:VTIMEZONE
BEGIN:VEVENT
DTSTART;TZID=America/Toronto:20241022T160000
DTEND;TZID=America/Toronto:20241022T173000
DTSTAMP:20260425T071705
CREATED:20240930T175446Z
LAST-MODIFIED:20240930T183447Z
UID:4017-1729612800-1729618200@qpirgmcgill.org
SUMMARY:Radical Walking Tour
DESCRIPTION:Radical Walking Tour\nThe Radical Walking Tour of Milton Parc presents a critical and nuanced historical presentation to the neighbourhood sites. The tour includes a visit to notable sites on McGill’s campus\, focusing on the history of James McGill’s abuse and enslavement of First Nations and Indigenous residents of Tiohtià:ke and the ongoing fight of the Kanistensera to secure justice regarding the Royal Vic project. Similarly\, the walking tour would rotate between a series of stations where different local organizations will present about their ongoing projects\, and talk about the history of the area.  \nMeeting point: 3516 Av du Parc \nOctober 22\, 4pm-5:30pm \nThis tour will also be held on October 29\, 12pm-1:30pm. \nIf you are interested in learning more about the amazing variety of projects and community groups in the milton parc area\, and would like to learn more about the activist history of the neighbourhood\, this tour is for you! Even you are familiar with the area\, the tour provides historical context of notable sites that you may be new to you. For instance\, did you the know the federation of co-ops in Milton-Parc consists of 22 different housing co-ops and non-profits\, with 133 buildings and 645 apartments\, housing a total population of about 1\,500. Come learn more at the radical walking tour of Milton Parc and McGill! \nThis event is part of Culture Shock 2024! Culture Shock is an annual event series on anti-racism\, migrant justice\, and Indigenous solidarity. It seeks to bring together racialized communities to discuss issues relevant to their lives\, as well as to allow those who do not belong to these communities to learn more about struggles against racism\, colonialism and border violence. Every year\, QPIRG brings panels\, workshops\, film screenings\, performance nights and fundraiser parties to McGill students and broader Montreal communities. \nCulture Shock 2024 will take place from October 21st to 30th. For more information\, visit qpirgmcgill.org/cs
URL:https://qpirgmcgill.org/event/radical-walking-tour/
LOCATION:QPIRG-McGill\, 3516 Avenue du Parc\, Montreal\, QC\, H2X 2H7\, Canada
CATEGORIES:Culture Shock 2024
ATTACH;FMTTYPE=image/png:https://qpirgmcgill.org/wp-content/uploads/2024/09/Culture-Shock-2024-posts-1920-x-1080-px.png
END:VEVENT
END:VCALENDAR