BEGIN:VCALENDAR
VERSION:2.0
PRODID:-//QPIRG McGill - ECPv6.15.20//NONSGML v1.0//EN
CALSCALE:GREGORIAN
METHOD:PUBLISH
X-ORIGINAL-URL:https://qpirgmcgill.org
X-WR-CALDESC:Events for QPIRG McGill
REFRESH-INTERVAL;VALUE=DURATION:PT1H
X-Robots-Tag:noindex
X-PUBLISHED-TTL:PT1H
BEGIN:VTIMEZONE
TZID:America/Toronto
BEGIN:DAYLIGHT
TZOFFSETFROM:-0500
TZOFFSETTO:-0400
TZNAME:EDT
DTSTART:20210314T070000
END:DAYLIGHT
BEGIN:STANDARD
TZOFFSETFROM:-0400
TZOFFSETTO:-0500
TZNAME:EST
DTSTART:20211107T060000
END:STANDARD
BEGIN:DAYLIGHT
TZOFFSETFROM:-0500
TZOFFSETTO:-0400
TZNAME:EDT
DTSTART:20220313T070000
END:DAYLIGHT
BEGIN:STANDARD
TZOFFSETFROM:-0400
TZOFFSETTO:-0500
TZNAME:EST
DTSTART:20221106T060000
END:STANDARD
BEGIN:DAYLIGHT
TZOFFSETFROM:-0500
TZOFFSETTO:-0400
TZNAME:EDT
DTSTART:20230312T070000
END:DAYLIGHT
BEGIN:STANDARD
TZOFFSETFROM:-0400
TZOFFSETTO:-0500
TZNAME:EST
DTSTART:20231105T060000
END:STANDARD
END:VTIMEZONE
BEGIN:VEVENT
DTSTART;TZID=America/Toronto:20221201T210000
DTEND;TZID=America/Toronto:20221202T030000
DTSTAMP:20260424T131502
CREATED:20221114T221820Z
LAST-MODIFIED:20230307T174434Z
UID:2814-1669928400-1669950000@qpirgmcgill.org
SUMMARY:Culture Shock presents: The Fortuna Kiki Ball by Mami Cuarta Mulan
DESCRIPTION:Culture Shock presents: The Fortuna Kiki Ball by Mami Cuarta Mulan\n \nDec. 1st\, 9PM to close \nLocation: Ursa Mtl (5589 Av du Parc) \nGet your tickets here: https://www.eventbrite.ca/e/the-fortuna-kiki-ball-tickets-467028584067  \nThe Fortuna Kiki Ball is a fundraiser for to help fund the first mainstream ball ever in the Peruvian scene. All proceeds will be send to their gofundme after paying the artists/workers of the event. Remember\, the conversion from dollars to their currency really makes the difference\, donations will be accepted all night onsite and online. \nCATEGORIES \nDifferent cultures and individuals have rituals\, superstitions and amulets they use for “good luck”. Some examples are the colour red (China)\, four-leaf clovers (Ireland)\, angel numbers\, wishbones\, a rabbit’s foot\, ladybugs\, shooting stars\, etc. \nAll categories call for a good luck charm\, your interpretation. \nKnock on wood\, don’t get chopped! \n1. LOVE / AMOR \nRealness \nAttention loverboys and city gurls! Are you so unclockable that not even a fortune teller could tell your tea on her crystal ball? \nNew Face \nWhen you are a face gurl\, it’s hard to keep the envy at bay. Wanted: mugs so ovah they repel that malevolent glare called “evil eye”. \n2. MONEY / DINERO \nRunway \nShow us your horseshoes when you stomp on that floor and prove you are thee stallion of the runway. \nFoot\, Eye\, Bag ($100 sponsored by QPIRG McGill) \nImagine you just won the lotto and went straight to the boutique to blow that cheque. Give us your three most lavish accessories\, material gurl! \n3. HEALTH / SALUD \nOld Way ($100 sponsored by QPIRG McGill) \nYour fortune cookie said it saw money on your future\, so come get it if you can Pop\, Dip and Spin like in the legendary days. \nCunt In a Box ($100 sponsored by QPIRG McGill) \nFive elements of vogue fem within the confinements of the performance altar. Recharge your kvnt crystals and show us your enchanting control! \n____ \nIf you would like to sponsor a category please contact Cuarta (@bqontheinside) \nThank you for your support <3
URL:https://qpirgmcgill.org/event/culture-shock-presents-the-fortuna-kiki-ball-by-mami-cuarta-mulan/
LOCATION:Ursa\, 5589 Av du Parc\, Montreal\, Quebec\, H2V 4S8\, Canada
CATEGORIES:Culture Shock 2022
ATTACH;FMTTYPE=image/png:https://qpirgmcgill.org/wp-content/uploads/2022/11/Screenshot-2022-11-14-172621.png
END:VEVENT
BEGIN:VEVENT
DTSTART;TZID=America/Toronto:20221125T190000
DTEND;TZID=America/Toronto:20221125T220000
DTSTAMP:20260424T131502
CREATED:20221111T191059Z
LAST-MODIFIED:20230307T180138Z
UID:2767-1669402800-1669413600@qpirgmcgill.org
SUMMARY:Culture Shock presents: A QTBIPOC Comedy Night!
DESCRIPTION:Culture Shock presents… a QTBIPOC comedy night!\n \nJoin QPIRG-McGill\, Queer McGill\, and They Go Low\, We go Laugh for a QTBIPOC Comedy Night at Bar Le Ritz on the 25th of November. \nTickets will be PWYC at the door and 10$ online to secure a ticket in advance. \nGet tickets here: https://www.universe.com/events/culture-shock-presents-a-qtbipoc-comedy-night-tickets… \nDoors open at 7 PM and show starts at 8 PM. \nCan’t wait to see you there! \nThe event is wheelchair accessible! \nCulture Shock is an annual event series on anti-racism\, migrant justice\, and Indigenous solidarity. It seeks to bring together racialized communities to discuss issues relevant to their lives\, as well as to allow those who do not belong to these communities to learn more about struggles against racism\, colonialism and border violence. Every year\, QPIRG brings panels\, workshops\, film screenings\, performance nights and fundraiser parties to McGill students and broader Montreal communities. \nThis event is situated on the unceded traditional territory of the Kanien’kehá:ka\, one of the founding nations of the Haudenosaunee Confederacy. \n— \nCulture Shock présente… une soirée comique QTBIPOC. Rejoignez QPRIG\, QM et They Go Low\, We go Laugh pour une soirée comique QPBIPOC au Bar Le Ritz @barleritzpdb le 25 novembre. Les billets seront PWYC à la porte et 10$ en ligne (lien dans la bio) pour réserver un billet à l’avance. J’ai hâte de vous y voir ! L’événement est accessible aux personnes en fauteuils roulants! \nCulture Shock est une série d’événements annuels sur l’antiracisme\, la justice pour les migrants et la solidarité autochtone. Il vise à rassembler les communautés racialisées pour discuter de questions pertinentes pour leur vie\, ainsi qu’à permettre à ceux qui n’appartiennent pas à ces communautés d’en savoir plus sur les luttes contre le racisme\, le colonialisme et la violence frontalière. Chaque année\, QPIRG organise des panels\, des ateliers\, des projections de films\, des soirées de performance et des soirées de financement pour les étudiants de McGill et les communautés montréalaises. \nCet événement se déroule sur le territoire traditionnel non cédé des Kanien’kehá:ka\, l’une des nations fondatrices de la Confédération Haudenosaunee.
URL:https://qpirgmcgill.org/event/qtbipoc-comedy-night/
LOCATION:Bar Le Ritz PDB\, 179 rue Jean-Talon O\, Montreal\, Quebec\, H2R2X2\, Canada
CATEGORIES:Culture Shock 2022
ATTACH;FMTTYPE=image/jpeg:https://qpirgmcgill.org/wp-content/uploads/2022/11/comedynight.jpg
END:VEVENT
BEGIN:VEVENT
DTSTART;TZID=America/Toronto:20221124T180000
DTEND;TZID=America/Toronto:20221124T200000
DTSTAMP:20260424T131502
CREATED:20221111T190557Z
LAST-MODIFIED:20221115T212521Z
UID:2764-1669312800-1669320000@qpirgmcgill.org
SUMMARY:Clowning Around
DESCRIPTION:Culture Shock presents: Clowning Around\nNov. 24th\, 6:00-8:00 PM\nLocation: 2100 rue Guy\, #205 \nThis is a workshop open to everyone interested in learning more about drag\, clowning\, gendered performance\, and how it all ties together. Join Camellia Jahanshahi\, aka Mina Minou\, a multidisciplinary artist and performer with a special clowning guest for a workshop that is part lecture and part activity. In this workshop we will explore the ancient history of gendered performance and the political connections between queerness and performance art. Following a 30 minute lecture piece we will move through some physical exercises that put theory into practice as we explore the more tangible sides of these performances (1.5-2 hours with a break). \nCulture Shock is an annual event series on anti-racism\, migrant justice\, and Indigenous solidarity. It seeks to bring together racialized communities to discuss issues relevant to their lives\, as well as to allow those who do not belong to these communities to learn more about struggles against racism\, colonialism and border violence. Every year\, QPIRG brings panels\, workshops\, film screenings\, performance nights and fundraiser parties to McGill students and broader Montreal communities. \nFor more information\, email us at info@qpirgmcgill.org
URL:https://qpirgmcgill.org/event/clowning-around/
LOCATION:QPIRG-Concordia\, 2100 rue Guy\, #205\, Montreal\, QC\, H3H 2M8\, Canada
CATEGORIES:Culture Shock 2022
ATTACH;FMTTYPE=image/png:https://qpirgmcgill.org/wp-content/uploads/2022/11/fb-wide-1.png
END:VEVENT
BEGIN:VEVENT
DTSTART;TZID=America/Toronto:20221124T130000
DTEND;TZID=America/Toronto:20221124T170000
DTSTAMP:20260424T131502
CREATED:20221111T190404Z
LAST-MODIFIED:20221115T212252Z
UID:2762-1669294800-1669309200@qpirgmcgill.org
SUMMARY:ALL MY RELATIONS: Indigenous Crafting\, Culture\, and Connection
DESCRIPTION:Culture Shock presents:\nALL MY RELATIONS: Indigenous Crafting\, Culture\, and Connection\nNov. 24th\, 1:00-3:00 PM\n3516 Av du Parc\, 1st floor\n\nThe Indigenous Support Worker Project (ISWP) and Pierre Parent will be bringing in crafters from Inuit and native communities to carve soap and make dreamcatchers on-site for two hours. Country food\, such as caribou\, will be served. Community members are invited to experience the ways that spaces for Indigenous art practices bring unity\, a sense of purpose\, connection\, and joy. Pierre will also give a one-hour presentation discussing his own life experience and Indigenous realities and culture.\n\nABOUT THE FACILITATORS\nAs Indigenous people supporting Indigenous people\, the ISWP is a harm-reduction based organization that uses experiential wisdom to build meaningful relationships and innovate solutions within the Indigenous Street Community. By meeting Indigenous people experiencing homelessness where they’re at\, the ISWP is able to support safer substance use and provide access to physical\, emotional\, and cultural health resources.\n\nTheir primary goal is to build and maintain collaborative social relationships that contribute to Indigenous healing from intergenerational trauma and colonial violence. Their role is to model\, support\, and create opportunities for Indigenous resilience and wellbeing — within an Indigenous Harm Reduction framework.\nPierre Parent is a 52-year old Anishnawbe outreach worker. As a result of a lifelong battle with trauma and addiction\, he wound up serving 10 years in federal prison. After becoming fully immersed in his culture and traditions with the Indigenous Elders who visited the prison\, he facilitated an Aboriginal Peer Educational Coordinator initiative. Now a writer\, public speaker\, and social justice advocate\, Pierre has been developing peer initiatives with the local Indigenous Street Community since April 2020.\n\nCulture Shock is an annual event series on anti-racism\, migrant justice\, and Indigenous solidarity. It seeks to bring together racialized communities to discuss issues relevant to their lives\, as well as to allow those who do not belong to these communities to learn more about struggles against racism\, colonialism and border violence. Every year\, QPIRG brings panels\, workshops\, film screenings\, performance nights and fundraiser parties to McGill students and broader Montreal communities.\n\nFor more information email info@qpirgmcgill.org
URL:https://qpirgmcgill.org/event/all-my-relations/
LOCATION:QPIRG-McGill\, 3516 Avenue du Parc\, Montreal\, QC\, H2X 2H7\, Canada
CATEGORIES:Culture Shock 2022
ATTACH;FMTTYPE=image/png:https://qpirgmcgill.org/wp-content/uploads/2022/11/fb-wide-1.png
END:VEVENT
BEGIN:VEVENT
DTSTART;TZID=America/Toronto:20221123T190000
DTEND;TZID=America/Toronto:20221123T210000
DTSTAMP:20260424T131502
CREATED:20221111T190303Z
LAST-MODIFIED:20221115T040658Z
UID:2759-1669230000-1669237200@qpirgmcgill.org
SUMMARY:Filthy Wholesome Dirty Talk
DESCRIPTION:Culture Shock presents:\nFilthy Wholesome Dirty Talk\nNov. 23rd\, 6:00-8:00 PM EST on Zoom \nRegister here:  https://us02web.zoom.us/…/tZYlcOqvrj4uH9Qspa2kwg5G5PRE5… \nHow to use obscene and graphic (or sweetly directive) dirty talk to get and give the kind of consensual kinky pleasure you desire. Join us for a fun and joyful sex positive workshop all about how to use your own words for the most enthusiastic on-going consent without coming out of a scene.\nA little queer\, a lot kinky\, join us for a filthy wholesome good time. \nFacilitator bio:\nMina Do is interested in creating work that destigmatizes people who work in sex. She teaches pleasure based sex education and trauma-informed\, practical consent and represents Butterfly\, the Asian and Migrant Sex Worker Support Network. Hire her for a good time\, a workshop or a party that’s as fun as it is informative and as intersectional in political analysis as it is accessible for anyone to understand and learn from. \nCulture Shock is an annual event series on anti-racism\, migrant justice\, and Indigenous solidarity. It seeks to bring together racialized communities to discuss issues relevant to their lives\, as well as to allow those who do not belong to these communities to learn more about struggles against racism\, colonialism and border violence. Every year\, QPIRG brings panels\, workshops\, film screenings\, performance nights and fundraiser parties to McGill students and broader Montreal communities. \nFor more information email info@qpirgmcgill.org
URL:https://qpirgmcgill.org/event/filthy-wholesome-dirty-talk/
LOCATION:Quebec
CATEGORIES:Culture Shock 2022
ATTACH;FMTTYPE=image/png:https://qpirgmcgill.org/wp-content/uploads/2022/11/fb-wide-1.png
END:VEVENT
BEGIN:VEVENT
DTSTART;TZID=America/Toronto:20221122T183000
DTEND;TZID=America/Toronto:20221122T200000
DTSTAMP:20260424T131502
CREATED:20221111T190131Z
LAST-MODIFIED:20221115T212438Z
UID:2756-1669141800-1669147200@qpirgmcgill.org
SUMMARY:Un(PAC)k: Caring for ourselves and each other
DESCRIPTION:Culture Shock presents:\nUn(PAC)k: Caring for ourselves and each other\nNov. 22nd\, 6:30-8:00 PM\nLocation: 2100 rue Guy\, #205 \nUn(PAC)k is a series of discussion groups aimed to create space for BIPOC to share personal experiences and thoughts regarding current events and selected topics. \nFor this un(PAC)k\, we will discuss making collective movement in social change sustainable and accessible. Often\, social change can feel daunting\, difficult\, and dull. Through introducing and opening up a conversation about the Social Change Ecosystem Map by Deepa Lyer\, and Pleasure Activism by Adrienne Maree Brown\, we hope that individuals can recognize the space they can fill within social change with ease\, and find that Joy can be a great\, if not essential part of the movement! Discussion will last for about 1.5 hours. \nThe Pan-Asian Collective aims to promote meaningful engagement in Asian history and culture in Tiohtiá:ke\, create a space that recognizes the diversity of Asian experiences\, and empower the Asian community to build a network of support\, learning\, and solidarity. \nCulture Shock is an annual event series on anti-racism\, migrant justice\, and Indigenous solidarity. It seeks to bring together racialized communities to discuss issues relevant to their lives\, as well as to allow those who do not belong to these communities to learn more about struggles against racism\, colonialism and border violence. Every year\, QPIRG brings panels\, workshops\, film screenings\, performance nights and fundraiser parties to McGill students and broader Montreal communities.
URL:https://qpirgmcgill.org/event/unpack-caring-for-ourselves-and-each-other/
LOCATION:QPIRG-Concordia\, 2100 rue Guy\, #205\, Montreal\, QC\, H3H 2M8\, Canada
CATEGORIES:Culture Shock 2022
ATTACH;FMTTYPE=image/png:https://qpirgmcgill.org/wp-content/uploads/2022/11/fb-wide-1.png
END:VEVENT
BEGIN:VEVENT
DTSTART;TZID=America/Toronto:20221122T130000
DTEND;TZID=America/Toronto:20221122T160000
DTSTAMP:20260424T131502
CREATED:20221111T185935Z
LAST-MODIFIED:20221115T212408Z
UID:2753-1669122000-1669132800@qpirgmcgill.org
SUMMARY:Places of Rest: An Interactive Mapping Experience
DESCRIPTION:Culture Shock presents:\nPlaces of Rest: An interactive mapping experience\nNov. 22nd\, 1:00 – 4:00 PM\nLev Bukhman Room (203)\, University Centre (3480 rue McTavish) \nIn this workshop\, participants are invited to reflect and share places within the city that trigger memories of joy and pleasure. Our intention is to create a map of Montreal which features the places of rest BIPOC have found here. From these depictions\, we will produce a document which can then be shared to other BIPOC students who are yet to come to the city. The lack of places to rest for BIPOC in the city are almost always intertwined with problems of safety and accessibility. This exercise highlights the way that we continue to navigate spaces that are not necessarily built for us\, but that we can make our own nonetheless. \nWe want to ask individuals to do three things;\n– Draw a map to the place/s\n– Express a memory of this place\, in whatever form suits the memory best\n– Name the place\, this can be formal\, casual\, or imagined \nSpaces of rest in the city are also located in our imagination. Sometimes we daydream about places we wish we were at\, or had\, to feel safe and rested. We will also invite participants to share their imagined spaces which they believe should exist or have\, over time\, ceased to. \nMahika Gautam & Angel Quadry are architecture students\, of Indian and Nigerian decent\, born and raised in London. Much of our work\, as the children of immigrants\, focuses around these topics of space production and who has the right to the city. In this way\, this workshop acts as a way to decolonise space\, and ensures that we acknowledge the importance of individual relationships to the city. \nCulture Shock is an annual event series on anti-racism\, migrant justice\, and Indigenous solidarity. It seeks to bring together racialized communities to discuss issues relevant to their lives\, as well as to allow those who do not belong to these communities to learn more about struggles against racism\, colonialism and border violence. Every year\, QPIRG brings panels\, workshops\, film screenings\, performance nights and fundraiser parties to McGill students and broader Montreal communities. \nFor more information email us at info@qpirgmcgill.org
URL:https://qpirgmcgill.org/event/places-of-rest-an-interactive-mapping-experience/
LOCATION:University Centre\, 3480 rue McTavish\, Montreal\, Quebec\, H3A 0E7\, Canada
CATEGORIES:Culture Shock 2022
ATTACH;FMTTYPE=image/png:https://qpirgmcgill.org/wp-content/uploads/2022/11/fb-wide-1.png
END:VEVENT
BEGIN:VEVENT
DTSTART;TZID=America/Toronto:20221121T190000
DTEND;TZID=America/Toronto:20221121T203000
DTSTAMP:20260424T131502
CREATED:20221111T185600Z
LAST-MODIFIED:20221115T024206Z
UID:2751-1669057200-1669062600@qpirgmcgill.org
SUMMARY:Nightlife as Community Building
DESCRIPTION:Culture Shock presents:\nNightlife as Community-Building: A panel discussion\nNov. 21st\, 7:00-8:30 PM EST on Zoom\nRegister here: https://us02web.zoom.us/…/tZ0oc… \nFrom vogue balls to fundraiser parties\, bar nights\, drag shows\, and strip-karaoke\, nightlife spaces and events have always been a site of connection for queer and gender-nonconforming communities. Montréal in particular is known for its thriving party scene\, and the same people and places that create those ephemeral spaces have also been intertwined with the history of political activism in the city. Past and present\, it is impossible to discuss the successes\, challenges\, issues\, and realities of our communities without acknowledging the contribution of the people who organize\, perform at\, and attend our nightlife events. \nJoin us for a discussion with established organizers about their experiences and philosophies for building community networks through their work. Panelists will include Cuartababy (CRZN)\, Camellia Jahanshahi (Lust Cove)\, and Marlyne Lust (Sweet Like Honey). Moderated by Adrienne Pan (Grind’her). \nCulture Shock is an annual event series on anti-racism\, migrant justice\, and Indigenous solidarity. It seeks to bring together racialized communities to discuss issues relevant to their lives\, as well as to allow those who do not belong to these communities to learn more about struggles against racism\, colonialism and border violence. Every year\, QPIRG brings panels\, workshops\, film screenings\, performance nights and fundraiser parties to McGill students and broader Montreal communities. \nFor more information email us at info@qpirgmcgill.org
URL:https://qpirgmcgill.org/event/nightlife-as-community-building/
LOCATION:Quebec
CATEGORIES:Culture Shock 2022
ATTACH;FMTTYPE=image/png:https://qpirgmcgill.org/wp-content/uploads/2022/11/fb-wide-1.png
END:VEVENT
END:VCALENDAR