BEGIN:VCALENDAR
VERSION:2.0
PRODID:-//QPIRG McGill - ECPv6.15.20//NONSGML v1.0//EN
CALSCALE:GREGORIAN
METHOD:PUBLISH
X-ORIGINAL-URL:https://qpirgmcgill.org
X-WR-CALDESC:Events for QPIRG McGill
REFRESH-INTERVAL;VALUE=DURATION:PT1H
X-Robots-Tag:noindex
X-PUBLISHED-TTL:PT1H
BEGIN:VTIMEZONE
TZID:America/Toronto
BEGIN:DAYLIGHT
TZOFFSETFROM:-0500
TZOFFSETTO:-0400
TZNAME:EDT
DTSTART:20250309T070000
END:DAYLIGHT
BEGIN:STANDARD
TZOFFSETFROM:-0400
TZOFFSETTO:-0500
TZNAME:EST
DTSTART:20251102T060000
END:STANDARD
BEGIN:DAYLIGHT
TZOFFSETFROM:-0500
TZOFFSETTO:-0400
TZNAME:EDT
DTSTART:20260308T070000
END:DAYLIGHT
BEGIN:STANDARD
TZOFFSETFROM:-0400
TZOFFSETTO:-0500
TZNAME:EST
DTSTART:20261101T060000
END:STANDARD
BEGIN:DAYLIGHT
TZOFFSETFROM:-0500
TZOFFSETTO:-0400
TZNAME:EDT
DTSTART:20270314T070000
END:DAYLIGHT
BEGIN:STANDARD
TZOFFSETFROM:-0400
TZOFFSETTO:-0500
TZNAME:EST
DTSTART:20271107T060000
END:STANDARD
END:VTIMEZONE
BEGIN:VEVENT
DTSTART;TZID=America/Toronto:20260325T183000
DTEND;TZID=America/Toronto:20260325T203000
DTSTAMP:20260423T192032
CREATED:20260225T214743Z
LAST-MODIFIED:20260225T214857Z
UID:5178-1774463400-1774470600@qpirgmcgill.org
SUMMARY:Manthan Film Screening
DESCRIPTION:Join us on March 25th from 6:30 pm at McEng 12 alongside South Asian Diaspora Action Collective (SADAC)\, QPIRG-Concordia\, and the Association of McGill University Support Employees (AMUSE) to watch MANTHAN (1976). This film is a fictionalized account of the extraordinary dairy cooperative movement that transformed India from a milk-deficient nation to the world’s largest milk producer. It is also India’s first crowdfunded film\, produced by 500\,000 dairy farmers who contributed two rupees each toward the production. Afterwards\, organizers from SADAC will lead a discussion on labour\, gender\, caste\, and community organizing in India. \nMANTHAN (1976)\nDirected by Shyam Benegal\nRuntime 134 minutes\nVOSTA \nMcConnell Engineering\, Room 12 \n3480 rue University \nAccessibility: \nThe McConnell Engineering building is wheelchair accessible via the doors closest to rue Milton\, just past the Milton Gates to enter McGill campus.
URL:https://qpirgmcgill.org/event/manthan-film-screening/
LOCATION:McConnell Engineering\, Room 12\, 3480 rue University\, Montreal\, QC\, Canada
CATEGORIES:Spring into Action 2026
ATTACH;FMTTYPE=image/png:https://qpirgmcgill.org/wp-content/uploads/2026/02/2026-02-Spring-into-Action-Graphic-Wide-1920-x-1080px-1.png
END:VEVENT
BEGIN:VEVENT
DTSTART;TZID=America/Toronto:20260326T180000
DTEND;TZID=America/Toronto:20260326T200000
DTSTAMP:20260423T192032
CREATED:20260309T200026Z
LAST-MODIFIED:20260312T004538Z
UID:5239-1774548000-1774555200@qpirgmcgill.org
SUMMARY:Tatreez Workshop
DESCRIPTION:Join us on March 26\, from 6-8 PM in the QPIRG McGill Alternative Library to learn the basics of Tatreez embroidery. Tatreez is a Palestinian embroidery tradition that has been passed down through generations that carries stories of land\, identity\, and resistance. \nThis beginner-friendly workshop will be guided by local Palestinian Suzane Obeid\, and will create space to learn about the significance of this cultural practice in preserving memory\, identity\, and as a form of resistance against erasure and ethnic cleansing. \nAll materials will be provided\, and no prior experience is necessary. Hot drinks and sweets will be served. \nRegistration link here \nQPIRG-McGill Alternative Library \n3516 Avenue du Parc
URL:https://qpirgmcgill.org/event/tatreez-workshop-2/
LOCATION:QPIRG-McGill Alternative Library\, 3516 Avenue du Parc\, Montreal\, Quebec\, H2X 2H7\, Canada
CATEGORIES:Spring into Action 2026
ATTACH;FMTTYPE=image/png:https://qpirgmcgill.org/wp-content/uploads/2026/02/2026-02-Spring-into-Action-Graphic-Wide-1920-x-1080px-1.png
END:VEVENT
BEGIN:VEVENT
DTSTART;TZID=America/Toronto:20260327T180000
DTEND;TZID=America/Toronto:20260327T203000
DTSTAMP:20260423T192032
CREATED:20260316T174310Z
LAST-MODIFIED:20260318T203946Z
UID:5180-1774634400-1774643400@qpirgmcgill.org
SUMMARY:Panel on Palestine Organizing
DESCRIPTION:Join us on March 27th for a panel on local Palestine organizing. As the Zionist entity continues to bomb Gaza and launch violent incursions into the West Bank\, and with the United Nations Security Council approving a plan for US occupation of the Gaza strip\, it is more important than ever that we build unity and collective power to struggle against complicity here in the imperial core. \nIn this discussion with local organizers\, we will reflect on coalition building\, how the movement has changed in the past few years\, and how Palestinian liberation is tied to other movements\, ultimately moving towards a clearer\, more realistic idea of what genuine “re-building” could look like. \nThis discussion will be moderated by Stefan Christoff. \nStefan Christoff is a media maker\, community activist and artist living in Montréal. Stefan hosts the radio program Free City Radio\, broadcasting weekly on nine community stations in Canada and shared globally as a podcast (Spotify + Apple Podcasts). Stefan makes music with many people globally\, including Anarchist Mountains\, Aidan Baker\, Adriana Camancho\, Aidan Girt\, Lori Goldston\, Nicolás Jaar\, Sessa and Nour Sokhon. Stefan is on the board of the Immigrant Workers Centre in the Côte-des-Neiges district of Montreal\, contributes organizationally to Cinema Politica\, is a regular contributor to Radio AlHara in Palestine and coordinates support for the Sounds of Places residency at The Wonder Cabinet in Palestine. Stefan is also a street artist and works with the Social Justice Centre and is currently a graduate student in history at Concordia University in Montreal. \nPanelists: \nFigs (she/her) is a Palestinian-Lebanese community organizer\, activist who’s an involuntary settler in Tiohtià:ke/Montreal.\nSince the early 2000s\, she’s been involved in different forms of BIPOC solidarity\, most of it for Palestine.\nTo her\, every action is a step closer to living in a free Palestine.\nWhen it’s time\, she wants to be buried under an olive tree there. \nManuel Tapial is a Spanish-Canadian activist\, coordinator\, and social movements researcher based in Montreal.\nWith over two decades of experience in grassroots organizing and international solidarity work\, he has coordinated transnational advocacy initiatives focused on refugee rights\, humanitarian access\, and international justice — including the Spanish campaign Rumbo a Gaza and\, more recently\, the Canadian delegation to the 2025 Global March to Gaza.\nIn Canada\, he works with community-based organizations such as Palestine Vivra\, contributing to public advocacy\, political education\, and movement-building efforts that connect local struggles — from housing justice to migrant rights — with broader international campaigns.\nHis research and organizing focus on the dynamics of popular movements\, sovereignty\, and civil resistance in contexts of displacement and conflict. \nSamar Alkhdour originally hailed from Gaza\, Palestine. In 2016\, she earned the Fulbright scholarship to study International Development at Ohio University in Athens\, Ohio\, USA\, focusing her studies on Women\, Gender and Sexuality. She worked in Gaza as interpreter/translator for eight years in the field of human rights. Samar tirelessly worked to bring her 13-year-old daughter Jana to Canada. Tragically\, just two weeks before the Canadian government informed her that Jana was finally eligible to enter the country in January 2024\, Jana was murdered by the IOF. Devastated by her loss\, Samar channeled her grief into activism\, organizing a daily sit-in outside the office of Marc Miller\, the Minister of Immigration\, Refugees and Citizenship. Her actions sparked broader protests against Canada’s complicity in the occupation of Palestine\, expanding to target other political figures\, businesses and academic institutions that support or benefit from the oppression of the Palestinian people. Samar was subjected to unlawful arrests\, detention\, and police brutality in the past year just for being a voice for justice\, not only honoring the memory of Jana but also shining a spotlight on the complicity of those perpetuating the suffering of her people and other peoples. \nTara Al-Alami is a Palestinian writer and organiser from occupied Jerusalem and occupied Yafa. She is a member of the Palestinian Feminist Collective (PFC). \nAmy Darwish is a Tiohtià:ke/Montreal-based community organizer\, involved in housing\, migrant justice and Palestine solidarity struggles. Over the past decade\, she has been a member of Tadamon\, the Israeli Apartheid Week organizing committee and more recently\, Papineau for Palestine. \nLocation \nSSMU Ballroom\n3480 rue McTavish\, room 301\n6-8:30pm\nDoors at 5:30pm\, panel begins at 6pm. We will have a short break at 7pm. \nAccessibility: \nThe SSMU Building is wheelchair accessible. There are gender-neutral bathrooms on the second and fourth floor.
URL:https://qpirgmcgill.org/event/panel-on-palestine-organizing/
LOCATION:SSMU Ballroom\, 301-3480 rue McTavish\, Montreal\, Quebec\, Canada
CATEGORIES:Spring into Action 2026
ATTACH;FMTTYPE=image/png:https://qpirgmcgill.org/wp-content/uploads/2026/02/2026-02-Spring-into-Action-Graphic-Wide-1920-x-1080px-1.png
END:VEVENT
BEGIN:VEVENT
DTSTART;TZID=America/Toronto:20260430T180000
DTEND;TZID=America/Toronto:20260430T210000
DTSTAMP:20260423T192032
CREATED:20260323T210829Z
LAST-MODIFIED:20260402T203313Z
UID:5268-1777572000-1777582800@qpirgmcgill.org
SUMMARY:Annual General Meeting 2026
DESCRIPTION:Birds of a feather\, flock together\, it’s time for the QPIRG-M Annual General Meeting! \nWe really ruffled some feathers this year! McGill students\, Working Group members\, and community members are warmly invited to come take a bird’s eye view of QPIRG’s activities this past year. \nCome for a free dinner and to learn more about our fee levy increase\, right-wing backlash to our activities\, our Working Groups\, and legal intrigue…… \nThursday\, April 30\, 6-8pm\nArts Building\, room W-120 (853 Sherbrooke O)\nHybrid Zoom option available – register here. \nThe Arts Building is wheelchair accessible via the Leacock Building (855 Sherbrooke O). \nWe will also be electing new and returning Board Members at the AGM! Board members play a crucial role in the operations and programming of QPIRG. Learn more
URL:https://qpirgmcgill.org/event/annual-general-meeting-2026/
LOCATION:Arts Building W-120\, 853 Sherbrooke Ouest\, room W-120\, Montreal\, Canada
ATTACH;FMTTYPE=image/png:https://qpirgmcgill.org/wp-content/uploads/2026/03/QPIRG-Annual-General-Meeting-2026-1920-x-1080-px.png
END:VEVENT
END:VCALENDAR