BEGIN:VCALENDAR
VERSION:2.0
PRODID:-//QPIRG McGill - ECPv6.15.20//NONSGML v1.0//EN
CALSCALE:GREGORIAN
METHOD:PUBLISH
X-WR-CALNAME:QPIRG McGill
X-ORIGINAL-URL:https://qpirgmcgill.org
X-WR-CALDESC:Events for QPIRG McGill
REFRESH-INTERVAL;VALUE=DURATION:PT1H
X-Robots-Tag:noindex
X-PUBLISHED-TTL:PT1H
BEGIN:VTIMEZONE
TZID:America/Toronto
BEGIN:DAYLIGHT
TZOFFSETFROM:-0500
TZOFFSETTO:-0400
TZNAME:EDT
DTSTART:20200308T070000
END:DAYLIGHT
BEGIN:STANDARD
TZOFFSETFROM:-0400
TZOFFSETTO:-0500
TZNAME:EST
DTSTART:20201101T060000
END:STANDARD
BEGIN:DAYLIGHT
TZOFFSETFROM:-0500
TZOFFSETTO:-0400
TZNAME:EDT
DTSTART:20210314T070000
END:DAYLIGHT
BEGIN:STANDARD
TZOFFSETFROM:-0400
TZOFFSETTO:-0500
TZNAME:EST
DTSTART:20211107T060000
END:STANDARD
BEGIN:DAYLIGHT
TZOFFSETFROM:-0500
TZOFFSETTO:-0400
TZNAME:EDT
DTSTART:20220313T070000
END:DAYLIGHT
BEGIN:STANDARD
TZOFFSETFROM:-0400
TZOFFSETTO:-0500
TZNAME:EST
DTSTART:20221106T060000
END:STANDARD
END:VTIMEZONE
BEGIN:VEVENT
DTSTART;TZID=America/Toronto:20210312T143000
DTEND;TZID=America/Toronto:20210312T163000
DTSTAMP:20260425T090636
CREATED:20210302T200829Z
LAST-MODIFIED:20210312T180151Z
UID:2176-1615559400-1615566600@qpirgmcgill.org
SUMMARY:(Postponed) Street Medic 101: An Intro to Protesting Basics
DESCRIPTION:∗ Due to unforeseen circumstances\, this event has been postponed. Please keep an eye on this event page for more updates. Thanks so much for your understanding and we can’t wait to bring you this awesome event at a later date <3 \n\n  \nJoin the Montreal Street Medic Collective (MSMC) for our very first training workshop! \nAs protests against various injustices are on the rise in Canada and around the globe\, we thought it was important to take a moment to talk about how our community can protest safely in a time of growing police aggression towards protesters. This workshop will cover some first-aid and protester safety basics. It will also be an opportunity to learn more about the collective. \nClick here to register. \n  \n\n  \nThis workshop will be facilitated by Andrea. Andrea is a Latinx queer with over 15 years of experience in community organizing Tio’tia:ke. She is a nurse and director of health services at Head & Hands and a community worker at Cactus SIS. She is passionate about harm reduction\, decolonization\, anti-authoritarianism\, and queer family. \nThe MSMC is a new collective that aims to provide first-aid training and first-aid support at various demonstrations for Black\, Indigenous and other communities who have been disproportionately targeted by police. Our services are free and open to the public. For anyone interested in volunteering with MSMC please email mstreetmediccollective@gmail.com for more information. \n  \n\n  \nLive closed captioning in English will be available on Zoom for this event. \nWhisper translation from English to French will be available for all events with 24 hours notice unless already provided; please email info@qpirgmcgill.org to request. // La traduction chuchotée de l’anglais vers le français sera disponible sur demande avec 24 heurs de pré-avis; envoyez un courriel à info@qpirgmcgill.org.
URL:https://qpirgmcgill.org/event/street-medic-101-an-intro-to-protesting-basics/
LOCATION:QC
END:VEVENT
END:VCALENDAR