BEGIN:VCALENDAR
VERSION:2.0
PRODID:-//QPIRG McGill - ECPv6.15.20//NONSGML v1.0//EN
CALSCALE:GREGORIAN
METHOD:PUBLISH
X-WR-CALNAME:QPIRG McGill
X-ORIGINAL-URL:https://qpirgmcgill.org
X-WR-CALDESC:Events for QPIRG McGill
REFRESH-INTERVAL;VALUE=DURATION:PT1H
X-Robots-Tag:noindex
X-PUBLISHED-TTL:PT1H
BEGIN:VTIMEZONE
TZID:America/Toronto
BEGIN:DAYLIGHT
TZOFFSETFROM:-0500
TZOFFSETTO:-0400
TZNAME:EDT
DTSTART:20200308T070000
END:DAYLIGHT
BEGIN:STANDARD
TZOFFSETFROM:-0400
TZOFFSETTO:-0500
TZNAME:EST
DTSTART:20201101T060000
END:STANDARD
BEGIN:DAYLIGHT
TZOFFSETFROM:-0500
TZOFFSETTO:-0400
TZNAME:EDT
DTSTART:20210314T070000
END:DAYLIGHT
BEGIN:STANDARD
TZOFFSETFROM:-0400
TZOFFSETTO:-0500
TZNAME:EST
DTSTART:20211107T060000
END:STANDARD
BEGIN:DAYLIGHT
TZOFFSETFROM:-0500
TZOFFSETTO:-0400
TZNAME:EDT
DTSTART:20220313T070000
END:DAYLIGHT
BEGIN:STANDARD
TZOFFSETFROM:-0400
TZOFFSETTO:-0500
TZNAME:EST
DTSTART:20221106T060000
END:STANDARD
END:VTIMEZONE
BEGIN:VEVENT
DTSTART;TZID=America/Toronto:20210316T170000
DTEND;TZID=America/Toronto:20210316T190000
DTSTAMP:20260425T101230
CREATED:20210302T201250Z
LAST-MODIFIED:20210304T220331Z
UID:2173-1615914000-1615921200@qpirgmcgill.org
SUMMARY:Being Black @ McGill
DESCRIPTION:Being Black at McGill can be exciting\, frustrating\, joyful\, lonely\, and so many other things. Join us to connect with other Black students and staff and learn about the supports available on campus and in the community for Black students! The facilitators of Being Black @ McGill will lead us in a discussion about our experiences\, survival strategies\, and future dreams as Afro-diasporic students at McGill. We will end with a visioning activity that will help us move towards building a safe community. \n  \n\n  \nVanessa Richardson is a U1 undergraduate student at McGill University. She is currently completing her Bachelor of Arts degree with an Honours in Philosophy and Double Minor in Cognitive Science and Canadian Studies. Vanessa works as a Student Skills Assistant at Teaching and Learning Services. She has facilitated workshops such as Introduction to Anti-Racism\, Introduction to Anti-Oppression and Fostering Inclusive Communities. \nKhan Bouba-Dalambaye is McGill alumni\, having completed both a Bachelors and Masters degree (Counselling Psychology). He has just under a decade’s worth of experience working as both a clinical counsellor\, and high school guidance counsellor\, here in Montreal. Khan has also recently emerged as one of the city’s leading experts in the area of EDI. He is happy to be working with McGill to help design and implement the university’s Anti-Black Racism Action Plan. \nShaquiera Hamilton is a 4th year student studying International Development with a double minor Psychology and GSFS (Gender\, Sexuality\, Feminism\, Social Justice). She has been facilitating student workshops for over 3 years now for multiple McGill clubs and student groups. She is very excited to help facilitate this upcoming workshop and further engage with McGill’s Black community. \nAntoine-Samuel Maufette Alavo is the Black Student Affairs Liason at McGill. \nMelissa-Anne Cobbler is a bonafide 80’s baby who is made up of Montréal winters\, Caribbean roots\, and Audre Lorde quotes. She identifies as a Black womxn womanist who has lived and worked in Southern Africa and the Caribbean. Melissa holds an MA and MSW respectively from Concordia and McGill Universities\, and works from the pillars of intersectionality and narrative to support individuals in cultivating their own stories. She currently is a Wellness Advisor at McGill. \n  \n\nClick here to register. \nLive closed captioning in English will be available on Zoom for this event. \nWhisper translation from English to French will be available for all events with 24 hours notice unless already provided; please email info@qpirgmcgill.org to request. // La traduction chuchotée de l’anglais vers le français sera disponible sur demande avec 24 heurs de pré-avis; envoyez un courriel à info@qpirgmcgill.org.
URL:https://qpirgmcgill.org/event/being-black-mcgill/
LOCATION:QC
END:VEVENT
BEGIN:VEVENT
DTSTART;TZID=America/Toronto:20210315T180000
DTEND;TZID=America/Toronto:20210315T200000
DTSTAMP:20260425T101230
CREATED:20210305T010013Z
LAST-MODIFIED:20210305T010439Z
UID:2213-1615831200-1615838400@qpirgmcgill.org
SUMMARY:Afropresentism: "Time -Traveling Desire and Reservoir Knowledge" in the #DigitalDiaspora
DESCRIPTION: “Facing devastation again and again\, Black folks need in and for each other becomes both time-traveling desire and reservoir knowledge”. This assertion by Jessica Marie Johnson and Mark Anthony Neal serves as the departure point for this keynote presentation which explores the Afropresentist practices of Black diasporic creatives on social media. First defined in 2017 by Neema Githere as “a digital genre fusing archival\, documentary\, and fine arts on and through new media in the expression of an Afrofuturist lived reality”\, Afropresentism has since come to encompass a broader spectrum of embodied practices both on and off-line. This keynote invites attendees along a non-linear journey investigating how Afropresentism challenges and alchemizes the complexities of modern-day digital enmeshment.  \n  \n\n  \nNeema Githere is a guerrilla theorist and curator hailing from Nairobi\, Kenya whose work explores indigenous cybernetics and love as a method of transportation. Their experimental practice termed ‘data healing’ seeks to illuminate the links between technology\, nature and spirituality to investigate how working from this intersection can combat the data trauma – a term coined by Olivia M. Ross – that saturates our virtual worlds. Other projects of theirs include Afropresentism – a term they coined in 2017 to articulate digital diasporic cultural production in the here and now – and Radical Love Consciousness\, a collective that focuses on re-indigenization through grassroots learning networks. \n  \n\nCLICK HERE TO REGISTER \nLive closed captioning in English will be available on Zoom for this event. \nWhisper translation from English to French will be available for all events with 24 hours notice unless already provided; please email info@qpirgmcgill.org to request. // La traduction chuchotée de l’anglais vers le français sera disponible sur demande avec 24 heurs de pré-avis; envoyez un courriel à info@qpirgmcgill.org.
URL:https://qpirgmcgill.org/event/afropresentism-time-traveling-desire-and-reservoir-knowledge-in-the-digitaldiaspora/
LOCATION:QC
END:VEVENT
BEGIN:VEVENT
DTSTART;TZID=America/Toronto:20210312T143000
DTEND;TZID=America/Toronto:20210312T163000
DTSTAMP:20260425T101230
CREATED:20210302T200829Z
LAST-MODIFIED:20210312T180151Z
UID:2176-1615559400-1615566600@qpirgmcgill.org
SUMMARY:(Postponed) Street Medic 101: An Intro to Protesting Basics
DESCRIPTION:∗ Due to unforeseen circumstances\, this event has been postponed. Please keep an eye on this event page for more updates. Thanks so much for your understanding and we can’t wait to bring you this awesome event at a later date <3 \n\n  \nJoin the Montreal Street Medic Collective (MSMC) for our very first training workshop! \nAs protests against various injustices are on the rise in Canada and around the globe\, we thought it was important to take a moment to talk about how our community can protest safely in a time of growing police aggression towards protesters. This workshop will cover some first-aid and protester safety basics. It will also be an opportunity to learn more about the collective. \nClick here to register. \n  \n\n  \nThis workshop will be facilitated by Andrea. Andrea is a Latinx queer with over 15 years of experience in community organizing Tio’tia:ke. She is a nurse and director of health services at Head & Hands and a community worker at Cactus SIS. She is passionate about harm reduction\, decolonization\, anti-authoritarianism\, and queer family. \nThe MSMC is a new collective that aims to provide first-aid training and first-aid support at various demonstrations for Black\, Indigenous and other communities who have been disproportionately targeted by police. Our services are free and open to the public. For anyone interested in volunteering with MSMC please email mstreetmediccollective@gmail.com for more information. \n  \n\n  \nLive closed captioning in English will be available on Zoom for this event. \nWhisper translation from English to French will be available for all events with 24 hours notice unless already provided; please email info@qpirgmcgill.org to request. // La traduction chuchotée de l’anglais vers le français sera disponible sur demande avec 24 heurs de pré-avis; envoyez un courriel à info@qpirgmcgill.org.
URL:https://qpirgmcgill.org/event/street-medic-101-an-intro-to-protesting-basics/
LOCATION:QC
END:VEVENT
END:VCALENDAR