BEGIN:VCALENDAR
VERSION:2.0
PRODID:-//QPIRG McGill - ECPv6.15.20//NONSGML v1.0//EN
CALSCALE:GREGORIAN
METHOD:PUBLISH
X-ORIGINAL-URL:https://qpirgmcgill.org
X-WR-CALDESC:Events for QPIRG McGill
REFRESH-INTERVAL;VALUE=DURATION:PT1H
X-Robots-Tag:noindex
X-PUBLISHED-TTL:PT1H
BEGIN:VTIMEZONE
TZID:America/Toronto
BEGIN:DAYLIGHT
TZOFFSETFROM:-0500
TZOFFSETTO:-0400
TZNAME:EDT
DTSTART:20220313T070000
END:DAYLIGHT
BEGIN:STANDARD
TZOFFSETFROM:-0400
TZOFFSETTO:-0500
TZNAME:EST
DTSTART:20221106T060000
END:STANDARD
BEGIN:DAYLIGHT
TZOFFSETFROM:-0500
TZOFFSETTO:-0400
TZNAME:EDT
DTSTART:20230312T070000
END:DAYLIGHT
BEGIN:STANDARD
TZOFFSETFROM:-0400
TZOFFSETTO:-0500
TZNAME:EST
DTSTART:20231105T060000
END:STANDARD
BEGIN:DAYLIGHT
TZOFFSETFROM:-0500
TZOFFSETTO:-0400
TZNAME:EDT
DTSTART:20240310T070000
END:DAYLIGHT
BEGIN:STANDARD
TZOFFSETFROM:-0400
TZOFFSETTO:-0500
TZNAME:EST
DTSTART:20241103T060000
END:STANDARD
END:VTIMEZONE
BEGIN:VEVENT
DTSTART;TZID=America/Toronto:20231016T180000
DTEND;TZID=America/Toronto:20231016T200000
DTSTAMP:20260425T111719
CREATED:20231017T170738Z
LAST-MODIFIED:20231017T170738Z
UID:3350-1697479200-1697486400@qpirgmcgill.org
SUMMARY:Food Insecurity: Reasons\, Those Affected and What Can Be Done to Help Food Sovereignty in Action
DESCRIPTION:Food Insecurity: Reasons\, Those Affected and What Can Be Done to Help Food Sovereignty in Action\nJoin QPIRG-McGill for a panel on food insecurity on October 16th! We will be discussing the issue of food insecurity and its impact on oppressed groups\, the history of our food system\, and strategies for improving food security in our communities. \nDate: October 16\, 6-8pm \nLocation: SSMU Ballroom (3480 rue McTavish\, Room 301) \nSpeakers:\nProf. Erik Chevrier (Concordia Food Coalition)\nSona Sadio (Sankofa Farming)\nAyub Alleyne (Sister Sabria) \nModerator:\nNat Alexander (Midnight Kitchen) \nRegister here
URL:https://qpirgmcgill.org/event/food-insecurity-reasons-those-affected-and-what-can-be-done-to-help-food-sovereignty-in-action/
LOCATION:SSMU Ballroom\, 301-3480 rue McTavish\, Montreal\, Quebec\, Canada
CATEGORIES:Culture Shock 2023
ATTACH;FMTTYPE=image/png:https://qpirgmcgill.org/wp-content/uploads/2023/10/food-insecurity-panel-05-1.png
END:VEVENT
BEGIN:VEVENT
DTSTART;TZID=America/Toronto:20231020T150000
DTEND;TZID=America/Toronto:20231020T170000
DTSTAMP:20260425T111719
CREATED:20231017T171442Z
LAST-MODIFIED:20231017T181559Z
UID:3355-1697814000-1697821200@qpirgmcgill.org
SUMMARY:Elderberry Syrup Workshop
DESCRIPTION:Elderberry Syrup Workshop\nJoin us for a demonstration of how to make elderberry syrup and a discussion around the medicinal properties and culinary applications of sambucus nigra\, the black elderberry. This workshop will be facilitated by Andrea McDonald @and.ree.ah \nDate: Friday\, October 20th\nTime: 3-5PM\nLocation: Le Frigo Vert @lefrigovert (1440 rue Mackay) \nAbout the facilitator:\nBoozhoo! I am a two spirit Anishinaabe herbalist and community educator. I believe that our plant nation relatives who thrive on this island hold special medicine to share with us\, and that being in good relation with these relatives is an essential part of community care and resilience.\n​​\nThis workshop takes about an hour and a half\, during which an introduction to the plant matter and its medicinal constituents would be discussed. At the end of the workshop\, participants will be able to taste the results of the demonstration. \nRegister here
URL:https://qpirgmcgill.org/event/elderberry-syrup-workshop/
LOCATION:Le Frigo Vert\, 1440 rue Mackay\, Montreal\, QC\, Canada
CATEGORIES:Culture Shock 2023
ATTACH;FMTTYPE=image/jpeg:https://qpirgmcgill.org/wp-content/uploads/2023/10/elderberry-syrup-workshop-wide-scaled.jpg
END:VEVENT
BEGIN:VEVENT
DTSTART;TZID=America/Toronto:20231023T150000
DTEND;TZID=America/Toronto:20231023T180000
DTSTAMP:20260425T111719
CREATED:20231017T172922Z
LAST-MODIFIED:20231018T185923Z
UID:3358-1698073200-1698084000@qpirgmcgill.org
SUMMARY:Cook with us! With Community Cooks Collective
DESCRIPTION:Cook with us!\nCome make sandwiches for Open Door and PAQ with QPIRG and @communitycookscollective ! \nDate: October 23\, 3-6pm \nLocation: Centre St Jax (1439 rue Ste-Catherine) \nThis event is part of Culture Shock\, QPIRG-McGill’s annual event series on anti-racism\, migrant justice\, and Indigenous solidarity.
URL:https://qpirgmcgill.org/event/cook-with-us/
LOCATION:Centre St Jax\, 1439 rue Ste-Catherine\, Montreal\, Quebec\, Canada
CATEGORIES:Culture Shock 2023
ATTACH;FMTTYPE=image/jpeg:https://qpirgmcgill.org/wp-content/uploads/2023/10/cook-with-ccc-wide-02-scaled.jpg
END:VEVENT
BEGIN:VEVENT
DTSTART;TZID=America/Toronto:20231027T183000
DTEND;TZID=America/Toronto:20231027T203000
DTSTAMP:20260425T111719
CREATED:20231017T174221Z
LAST-MODIFIED:20231024T191401Z
UID:3362-1698431400-1698438600@qpirgmcgill.org
SUMMARY:Culture Shock: Community Feast
DESCRIPTION:Culture Shock: Community Feast\nCome enjoy a free community dinner and mingle with activists and community groups! Food prepared by Midnight Kitchen and People’s Potato. \nDate: October 27\, 6:30-8:30pm \nLocation: CÉDA (2515 rue Delisle) \nRegister here. \nThis event is part of Culture Shock\, QPIRG’s annual event series on anti-racism\, migrant justice\, and Indigenous solidarity. To learn more about QPIRG and Culture Shock\, visit qpirgmcgill.org/cs \nAccessibility: \nThe main floor of CEDA is accessible to people using wheelchairs. \nPlease note: The CEDA entrance for people needing to use the wheelchair ramp is via the rear parking lot to the left of 2520\, avenue Lionel-Groulx\, before Vinet\, but after Charlevoix.
URL:https://qpirgmcgill.org/event/communityfeast/
LOCATION:CÉDA\, 2515 rue Delisle\, Montreal\, Quebec\, Canada
CATEGORIES:Culture Shock 2023
ATTACH;FMTTYPE=image/jpeg:https://qpirgmcgill.org/wp-content/uploads/2023/10/community-feast-02-scaled.jpg
END:VEVENT
END:VCALENDAR