BEGIN:VCALENDAR
VERSION:2.0
PRODID:-//QPIRG McGill - ECPv6.15.20//NONSGML v1.0//EN
CALSCALE:GREGORIAN
METHOD:PUBLISH
X-WR-CALNAME:QPIRG McGill
X-ORIGINAL-URL:https://qpirgmcgill.org/fr
X-WR-CALDESC:Événements pour QPIRG McGill
REFRESH-INTERVAL;VALUE=DURATION:PT1H
X-Robots-Tag:noindex
X-PUBLISHED-TTL:PT1H
BEGIN:VTIMEZONE
TZID:America/Toronto
BEGIN:DAYLIGHT
TZOFFSETFROM:-0500
TZOFFSETTO:-0400
TZNAME:EDT
DTSTART:20230312T070000
END:DAYLIGHT
BEGIN:STANDARD
TZOFFSETFROM:-0400
TZOFFSETTO:-0500
TZNAME:EST
DTSTART:20231105T060000
END:STANDARD
BEGIN:DAYLIGHT
TZOFFSETFROM:-0500
TZOFFSETTO:-0400
TZNAME:EDT
DTSTART:20240310T070000
END:DAYLIGHT
BEGIN:STANDARD
TZOFFSETFROM:-0400
TZOFFSETTO:-0500
TZNAME:EST
DTSTART:20241103T060000
END:STANDARD
BEGIN:DAYLIGHT
TZOFFSETFROM:-0500
TZOFFSETTO:-0400
TZNAME:EDT
DTSTART:20250309T070000
END:DAYLIGHT
BEGIN:STANDARD
TZOFFSETFROM:-0400
TZOFFSETTO:-0500
TZNAME:EST
DTSTART:20251102T060000
END:STANDARD
END:VTIMEZONE
BEGIN:VEVENT
DTSTART;TZID=America/Toronto:20240207T190000
DTEND;TZID=America/Toronto:20240207T210000
DTSTAMP:20260425T124620
CREATED:20240123T203240Z
LAST-MODIFIED:20240123T203737Z
UID:3573-1707332400-1707339600@qpirgmcgill.org
SUMMARY:From Palette to Plate: Cooking & Art Workshop
DESCRIPTION:From Palette to Plate: Cooking & Art Workshop\nDate: Thursday\, February 7th at 7PM \nLocation: Le Frigo Vert (1440 rue Mackay) \nMindful Campus Initiative and the Art Hive are teaming up with us to bring you a unique experience that celebrates the importance of food in our daily lives. Join us for a delightful food and art workshop\, a celebration of the profound role food plays in our daily lives. Unleash your creativity in a collaborative art-making session\, where everyone\, regardless of artistic experience\, is invited to connect and express themselves. Following this burst of inspiration\, Andrea\, a Two Spirit Anishnaabe herbalist and community facilitator\, will guide us through a cooking workshop. Using fresh\, locally sourced ingredients\, we’ll come together to create a delicious vegetarian meal. Andrea will share insights into the intersection of anticolonialism\, food security\, and student life struggles\, emphasizing the importance of being in good relation with our plant spirit relatives for community care and connection. Join us for a unique blend of creativity\, culinary exploration\, and meaningful conversation! \nAccessibility:\nFrigo Vert is a wheelchair accessible space\, with a gender-neutral bathroom. \nAbout Anti-Colonial Week \nJoin us for Anti-Colonial Week\, a grassroots initiative that’s been evolving since its humble beginnings as the Anti-Colonial Dinner in 2015. Now\, in 2024\, it’s a week-long exploration of food\, film\, and resistance. Created for Concordia students and the wider community\, this event is all about education and awareness\, digging into the real impacts of colonization on communities and weaving connections with social and environmental movements.\nThis year’s lineup includes From Palette to Plate\, a hands-on food/art workshop\, The KAIROS Blanket Exercise for a profound historical experience\, and Plantcestors\, a workshop on plants and herbs. Immerse yourself in films\, engage with speakers\, and participate in workshops that unpack the realities of colonization. It’s not just a week – it’s a movement!
URL:https://qpirgmcgill.org/fr/event/palettetoplate/
LOCATION:Le Frigo Vert\, 1440 rue Mackay\, Montreal\, QC\, Canada
CATEGORIES:Anti-Colonial Week
ATTACH;FMTTYPE=image/png:https://qpirgmcgill.org/wp-content/uploads/2024/01/anticolonial-week-wide-01.png
ORGANIZER;CN="Le Frigo Vert":MAILTO:yesfrigo@gmail.com
END:VEVENT
END:VCALENDAR