BEGIN:VCALENDAR
VERSION:2.0
PRODID:-//QPIRG McGill - ECPv6.15.20//NONSGML v1.0//EN
CALSCALE:GREGORIAN
METHOD:PUBLISH
X-WR-CALNAME:QPIRG McGill
X-ORIGINAL-URL:https://qpirgmcgill.org/fr
X-WR-CALDESC:Événements pour QPIRG McGill
REFRESH-INTERVAL;VALUE=DURATION:PT1H
X-Robots-Tag:noindex
X-PUBLISHED-TTL:PT1H
BEGIN:VTIMEZONE
TZID:America/Toronto
BEGIN:DAYLIGHT
TZOFFSETFROM:-0500
TZOFFSETTO:-0400
TZNAME:EDT
DTSTART:20230312T070000
END:DAYLIGHT
BEGIN:STANDARD
TZOFFSETFROM:-0400
TZOFFSETTO:-0500
TZNAME:EST
DTSTART:20231105T060000
END:STANDARD
BEGIN:DAYLIGHT
TZOFFSETFROM:-0500
TZOFFSETTO:-0400
TZNAME:EDT
DTSTART:20240310T070000
END:DAYLIGHT
BEGIN:STANDARD
TZOFFSETFROM:-0400
TZOFFSETTO:-0500
TZNAME:EST
DTSTART:20241103T060000
END:STANDARD
BEGIN:DAYLIGHT
TZOFFSETFROM:-0500
TZOFFSETTO:-0400
TZNAME:EDT
DTSTART:20250309T070000
END:DAYLIGHT
BEGIN:STANDARD
TZOFFSETFROM:-0400
TZOFFSETTO:-0500
TZNAME:EST
DTSTART:20251102T060000
END:STANDARD
END:VTIMEZONE
BEGIN:VEVENT
DTSTART;TZID=America/Toronto:20240627T183000
DTEND;TZID=America/Toronto:20240627T203000
DTSTAMP:20260425T095554
CREATED:20240704T174124Z
LAST-MODIFIED:20240704T180524Z
UID:3832-1719513000-1719520200@qpirgmcgill.org
SUMMARY:Film Screening: Soraida\, a Woman of Palestine
DESCRIPTION:Film Screening: Soraida\, a Woman of Palestine\nJoin us for a screening of Soraida\, a Woman of Palestine (2004). This documentary follows Soraida\, a woman living in Ramallah under siege and strict curfews. Soraida and her family and friends share their inner thoughts\, dreams\, and reflections on life under Israeli occupation. \nDate and time: Thursday\, June 27\, 6:30pm\nLocation: QPIRG Concordia (2100 rue Guy\, #205) \nAccessibility: \nThere is an elevator in the building. There are two entrances. The entrance at 2100 Guy has one flight of stairs. \nFor step-free access\, use the entrance at 1625 de Maisonneuve Ouest. Buzz #0205 to be let through the automatic doors\, then take the elevator up to the second floor. The door to our space can be opened by automated button\, and swings out. There is a paid parking lot beside our building\, entrance on Guy. \nA list of other spaces downtown (Ville-Marie borough) reserved for people who have the blue-and-white parking permit can be found here: \nhttp://www.statdemtl.qc.ca/index.php?page_id=322&lang=en#sondage
URL:https://qpirgmcgill.org/fr/event/soraida/
LOCATION:QPIRG-Concordia\, 2100 rue Guy\, #205\, Montreal\, QC\, H3H 2M8\, Canada
ATTACH;FMTTYPE=image/jpeg:https://qpirgmcgill.org/wp-content/uploads/2024/07/soraida-scaled.jpg
END:VEVENT
END:VCALENDAR