BEGIN:VCALENDAR
VERSION:2.0
PRODID:-//QPIRG McGill - ECPv6.15.20//NONSGML v1.0//EN
CALSCALE:GREGORIAN
METHOD:PUBLISH
X-WR-CALNAME:QPIRG McGill
X-ORIGINAL-URL:https://qpirgmcgill.org/fr
X-WR-CALDESC:Événements pour QPIRG McGill
REFRESH-INTERVAL;VALUE=DURATION:PT1H
X-Robots-Tag:noindex
X-PUBLISHED-TTL:PT1H
BEGIN:VTIMEZONE
TZID:America/Toronto
BEGIN:DAYLIGHT
TZOFFSETFROM:-0500
TZOFFSETTO:-0400
TZNAME:EDT
DTSTART:20230312T070000
END:DAYLIGHT
BEGIN:STANDARD
TZOFFSETFROM:-0400
TZOFFSETTO:-0500
TZNAME:EST
DTSTART:20231105T060000
END:STANDARD
BEGIN:DAYLIGHT
TZOFFSETFROM:-0500
TZOFFSETTO:-0400
TZNAME:EDT
DTSTART:20240310T070000
END:DAYLIGHT
BEGIN:STANDARD
TZOFFSETFROM:-0400
TZOFFSETTO:-0500
TZNAME:EST
DTSTART:20241103T060000
END:STANDARD
BEGIN:DAYLIGHT
TZOFFSETFROM:-0500
TZOFFSETTO:-0400
TZNAME:EDT
DTSTART:20250309T070000
END:DAYLIGHT
BEGIN:STANDARD
TZOFFSETFROM:-0400
TZOFFSETTO:-0500
TZNAME:EST
DTSTART:20251102T060000
END:STANDARD
END:VTIMEZONE
BEGIN:VEVENT
DTSTART;TZID=America/Toronto:20240311T180000
DTEND;TZID=America/Toronto:20240311T200000
DTSTAMP:20260425T124440
CREATED:20240213T181458Z
LAST-MODIFIED:20240227T224725Z
UID:3597-1710180000-1710187200@qpirgmcgill.org
SUMMARY:Plant Allies for Rage and Resilience
DESCRIPTION:Plant Allies for Rage and Resilience\nCome and learn with Andrea Macdonald\, Two Spirit Anishinaabe herbalist and community educator\, about a few local\, abundant plants that support the various body systems impacted by prolonged anger and stress. There will be a tea tasting and burdock pickling demonstration\, during which we will discuss care strategies to support our loved ones and ourselves during these outrageous times. \nDate and time: Monday\, March 11th at 6pm \nLocation: Frigo Vert (1440 rue Mackay) \nThis event is part of Spring into Action 2024: OUTRAGE. For more information visit qpirgmcgill.org/spring-into-action.  \nAccessibility:  \nFrigo Vert is a wheelchair accessible space. There are gender-neutral and accessible bathrooms in the space. \nIf you have any questions or concerns\, please email us at info@qpirgmcgill.org.
URL:https://qpirgmcgill.org/fr/event/plant-allies/
LOCATION:Le Frigo Vert\, 1440 rue Mackay\, Montreal\, QC\, Canada
CATEGORIES:Spring into Action 2024
ATTACH;FMTTYPE=image/jpeg:https://qpirgmcgill.org/wp-content/uploads/2024/02/outrage-wide-05-scaled.jpg
END:VEVENT
BEGIN:VEVENT
DTSTART;TZID=America/Toronto:20240314T170000
DTEND;TZID=America/Toronto:20240314T193000
DTSTAMP:20260425T124440
CREATED:20240213T182803Z
LAST-MODIFIED:20240227T224720Z
UID:3599-1710435600-1710444600@qpirgmcgill.org
SUMMARY:Are you Outraged? Organize Collectively: A History of WDO and Militant Women’s Movement in Montreal-Tio'tia:ke and beyond
DESCRIPTION:Are you Outraged? Organize Collectively\nA History of WDO and Militant Women’s Movement in Montreal-Tio’tia:ke and beyond\nDate and time: Thursday\, March\, 14th at 5-7:30pm\n \nLocation: 3480 rue McTavish\, Room 201 (Madeline Parent Room) \nRegister to attend this event here. \nThis workshop will cover the history of Women of Diverse Origins and the grassroots women’s movement in Montreal/Tio’tia:ke. Women of Diverse Origins has been organizing International Women’s Day activities\, including the main IWD demonstration in Montreal since 2001. We have joined together as women from different communities making the connection between our situation in Canada- Turtle Island\, and issues in our countries of origin\, from war and militarism to forced migration and exploitation of migrants\, to violence against women here and globally. We have organized forums\, conferences and yearly demonstrations to make us visible and to affect awareness and change. \nDuring this workshop\, this history will be shared\, with lessons drawn from organizing over the years. We are looking to engage young women and women-identified persons to join us in continuing to build a militant\, grassroots\, women’s movement in Montreal-Tio’tia:ke and the world. This 2-hour workshop will be for knowledge transfer and to exchange views and examples of organizing in our communities. We encourage students to get involved in our activities! \nWomen of Diverse Origins (WDO) is a grassroots anti-imperialist women’s network that organizes public events to educate\, discuss and empower! WDO-FDO -Femmes de diverses origines\, organizes the yearly demonstration on International Working Women’s Day in Montreal on March 8. https://wdofdo.wordpress.com/ We are also a founding member of International Women’s Alliance\, made up of some 100 organisations in 20 countries. Check out https://www.internationalwomensalliance.org/ \nThis event is part of Spring into Action 2024: OUTRAGE. For more information visit qpirgmcgill.org/spring-into-action. \nAccessibility: \nThe SSMU building at 3480 rue McTavish is wheelchair accessible. There are gender-neutral accessible bathrooms on the second floor. \nIf you have any questions or concerns\, feel free to email us at info@qpirgmcgill.org.
URL:https://qpirgmcgill.org/fr/event/montreal-womens-movement/
LOCATION:SSMU Madeleine Parent Room\, 3480 rue McTavish\, Room 201\, Montreal\, QC\, H3A0E7\, Canada
CATEGORIES:Spring into Action 2024
ATTACH;FMTTYPE=image/jpeg:https://qpirgmcgill.org/wp-content/uploads/2024/02/outrage-wide-05-scaled.jpg
END:VEVENT
BEGIN:VEVENT
DTSTART;TZID=America/Toronto:20240315T140000
DTEND;TZID=America/Toronto:20240315T160000
DTSTAMP:20260425T124440
CREATED:20240213T184257Z
LAST-MODIFIED:20240227T224626Z
UID:3605-1710511200-1710518400@qpirgmcgill.org
SUMMARY:Penning Community Almanacs for The Future: Persisting and Resisting Corporate Climate Crisis
DESCRIPTION:Penning Community Almanacs for The Future\nPersisting and Resisting Corporate Climate Crisis\nDate and time: Friday\, March 15th from 2-4pm\n \nLocation: Frigo Vert (1440 rue Mackay) \nThis workshop is inspired by the Earthbound Farmer’s Almanac (to be discussed in the workshop) which is described as follows: “This is a farmer’s almanac for the end of a world and the beginning of many others/ It’s a place for experimentation\, for finding new forms and retrofitting old ones\, for sharing stories of lived efforts toward a collective exit from this colonial nightmare\, this separateness from the Earth.” Creating almanacs for these times – building on past practices of almanacs but for the current conditions that climate crisis brings up – is the making of experimental space for connection engaging deeply with life on earth (including the stars) while resisting the systems at the root of suffering. The goal of this workshop is to offer a potential tool for persisting and resisting climate crisis both personally and collectively. This workshop will include a presentation\, an almanac journal collage and art activity\, guided group discussion\, and skillsharing. \nThis workshop is hosted by Pamela Fillion\, a community herbalist and radical home ec educator who has been involved in social and environmental justice in Montreal for over 16 years. \nThis event is part of Spring into Action 2024: OUTRAGE. For more information visit qpirgmcgill.org/spring-into-action. \nAccessibility: \nFrigo Vert is wheelchair accessible. There are gender-neutral accessible bathrooms in the space. \nIf you have any questions or concerns\, feel free to email us at info@qpirgmcgill.org.
URL:https://qpirgmcgill.org/fr/event/community-almanacs/
LOCATION:Le Frigo Vert\, 1440 rue Mackay\, Montreal\, QC\, Canada
CATEGORIES:Spring into Action 2024
ATTACH;FMTTYPE=image/jpeg:https://qpirgmcgill.org/wp-content/uploads/2024/02/outrage-wide-06-scaled.jpg
END:VEVENT
BEGIN:VEVENT
DTSTART;TZID=America/Toronto:20240316T110000
DTEND;TZID=America/Toronto:20240316T150000
DTSTAMP:20260425T124440
CREATED:20240213T184829Z
LAST-MODIFIED:20240227T224712Z
UID:3608-1710586800-1710601200@qpirgmcgill.org
SUMMARY:Atelier de sérigraphie à Coup d'Griffe
DESCRIPTION:Atelier de sérigraphie à Coup d’Griffe\nApprenez la sérigraphie à Co-op Coup d’Griffe ! \nPremière session:11h-13h \nDeuxième session:13h30-15h30 \nIMPORTANT: Il y a deux sessions\, la première à 11h et la deuxième à 13h30. Il y a 5 places disponible par session. SVP vous inscrire à une seule session.  \nInscrivez-vous ici.  \nSi vous ne pouvez plus participer\, annulez votre réservation en ligne ou écrivez-nous à info@qpirgmcgill.org. \nSamedi le 16 mars\, 11h et 13h30\nCoop Coup d’Griffe (5570 rue Cartier local b-03) \nLes ateliers se déroulent en français. \nCréé en 2012\, la Coop Coup D’Griffe est une association d’artistes et de travailleurs autonomes qui se sont unis afin de partager un lieu\, outils et savoir-faire. Notre expertise tourne autour de l’univers de la musique\, de l’édition et de la création de matériel promotionnel. \nPour ceux et celles qui préfèrent « le faire soi-même »\, nous offrons une formation d’initiation à la sérigraphie qui permet ensuite de louer nos installations basées à Montréal. \nAccessibilité: \nCo-op Coup d’Griffe n’est pas accessible aux personnes en fauteuil roulant. \n—– \nJoin us for a screen printing workshop\, led by Coup d’Griffe! \nFirst workshop: 11am-1pm \n\n\n\n\n\n\n\nSecond workshop: 1:30pm-3pm \nIMPORTANT: This workshop will be held twice\, first at 11am and then at 1:30pm. There are 5 spots available for each session. Please only register for one time slot. \nReserve your spot at the link here.  \nIf you can no longer attend the workshop\, please cancel your ticket online or email us at info@qpirgmcgill.org to cancel so we can give your spot to someone else. \n\n\n\n\n\n\n\nDate and time: Saturday\, March 16th at 11am & 1:30pm\nLocation: Coop Coup d’Griffe (5570 rue Cartier local b-03) \nThe workshops will be held in French. \nCréé en 2012\, la Coop Coup D’Griffe est une association d’artistes et de travailleurs autonomes qui se sont unis afin de partager un lieu\, outils et savoir-faire. Notre expertise tourne autour de l’univers de la musique\, de l’édition et de la création de matériel promotionnel. \nPour ceux et celles qui préfèrent « le faire soi-même »\, nous offrons une formation d’initiation à la sérigraphie qui permet ensuite de louer nos installations basées à Montréal. \nThis event is part of Spring into Action 2024: OUTRAGE. For more information visit qpirgmcgill.org/spring-into-action. \nAccessibility: \nUnfortunately\, Co-op Coup d’Griffe is not wheelchair accessible.
URL:https://qpirgmcgill.org/fr/event/serigraphie/
LOCATION:Coup d’Griffe\, 5570 R. Cartier local b-03\, Montreal\, QC\, H2H 1X9\, Canada
CATEGORIES:Spring into Action 2024
ATTACH;FMTTYPE=image/jpeg:https://qpirgmcgill.org/wp-content/uploads/2024/02/outrage-wide-05-scaled.jpg
END:VEVENT
BEGIN:VEVENT
DTSTART;TZID=America/Toronto:20240319T190000
DTEND;TZID=America/Toronto:20240319T210000
DTSTAMP:20260425T124440
CREATED:20240213T185231Z
LAST-MODIFIED:20240227T224701Z
UID:3613-1710874800-1710882000@qpirgmcgill.org
SUMMARY:Prison Abolition 101
DESCRIPTION:Prison Abolition 101\nJoin us for a workshop that offers community members an introduction to prisoner solidarity work and prison abolition\, as well as an introduction to the Prisoner Correspondence Project and our role in the abolitionist movement. Centering the lived experiences of the project’s imprisoned 2SLGBTQ+ members\, this workshop will look at the systematic violence of prisons\, both on an individual and structural level; explore the differences between reform versus abolition; and investigate some of the ways that we as individuals\, organizations and movements can work towards abolition. We hope that this presentation will be of interest to people who are new to the concept of prison abolition\, and to those who are familiar with it but are looking for concrete ways to get involved in abolitionist work. Given the scope of our project\, our workshop will emphasize prison abolition as it intersects with queer activism\, but we of course welcome community members of all identities to attend. \nThe Prisoner Correspondence Project is a solidarity project for gay\, lesbian\, transsexual\, transgender\, gendervariant\, two-spirit\, intersex\, bisexual and queer prisoners in Canada and the United States\, linking them with people a part of these same communities outside of prison. \nDate and time: Tuesday\, March 19th at 7pm \nLocation: QPIRG-Concordia (2100 rue Guy\, room #205) \nThis event is part of Spring into Action 2024: OUTRAGE. For more information visit qpirgmcgill.org/spring-into-action. \nAccessibility: \nThere is an elevator in the building. There are two entrances. The entrance at 2100 Guy has one flight of stairs. \nFor step-free access\, use the entrance at 1625 de Maisonneuve Ouest. Buzz #0205 to be let through the automatic doors\, then take the elevator up to the second floor. The door to our space can be opened by automated button\, and swings out. There is a paid parking lot beside our building\, entrance on Guy. \nA list of other spaces downtown (Ville-Marie borough) reserved for people who have the blue-and-white parking permit can be found here: \nhttp://www.statdemtl.qc.ca/index.php?page_id=322&lang=en#sondage
URL:https://qpirgmcgill.org/fr/event/prison-abolition/
LOCATION:QPIRG-Concordia\, 2100 rue Guy\, #205\, Montreal\, QC\, H3H 2M8\, Canada
CATEGORIES:Spring into Action 2024
ATTACH;FMTTYPE=image/jpeg:https://qpirgmcgill.org/wp-content/uploads/2024/02/outrage-wide-06-scaled.jpg
END:VEVENT
BEGIN:VEVENT
DTSTART;TZID=America/Toronto:20240321T173000
DTEND;TZID=America/Toronto:20240321T190000
DTSTAMP:20260425T124440
CREATED:20240319T192154Z
LAST-MODIFIED:20240319T192154Z
UID:3732-1711042200-1711047600@qpirgmcgill.org
SUMMARY:Discordia Film Screening
DESCRIPTION:Discordia Film Screening\nJoin us for a screening of Discordia on March 21\, 5:30-7pm at ÉCOLE (3559 rue University)! This event is co-hosted by SPHR @sphrmcgill\, IJV McGill @ijvmcgill\, ÉCOLE @ecoleproject\, and QPIRG McGill @qpirgmcgill. \n“On September 9\, 2002\, a scheduled appearance by former Israeli prime minister Benjamin Netanyahu sparked heated debate at Montreal’s Concordia University. By the end of the day\, the “Concordia riot” had made international news\, from CNN to Al-Jazeera. This film documents the fallout from that eventful day\, following three young campus activists as they negotiate the most formative year of their lives.” \nThis documentary is available on the NFB.
URL:https://qpirgmcgill.org/fr/event/discordia-film/
LOCATION:ECOLE\, 3559 rue University\, Montreal\, QC\, Canada
ATTACH;FMTTYPE=image/png:https://qpirgmcgill.org/wp-content/uploads/2024/03/discordia-film-screening-01.png
END:VEVENT
BEGIN:VEVENT
DTSTART;TZID=America/Toronto:20240322T180000
DTEND;TZID=America/Toronto:20240322T200000
DTSTAMP:20260425T124440
CREATED:20240213T185628Z
LAST-MODIFIED:20240227T224656Z
UID:3616-1711130400-1711137600@qpirgmcgill.org
SUMMARY:Community Dinner and PAC Zine Night
DESCRIPTION:Community Dinner and PAC Zine Night\nRegister to attend this event here. \nJoin us for a free community dinner and an evening of zine-making with the Pan-Asian Collective (PAC)! Vegan meals will be provided by Midnight Kitchen and People’s Potato. \nFor this year’s Spring into Action 2024 theme\, “Outrage\,” PAC is excited to host a Community Zine Night to provide a safe space for channeling anger and despair into tangible forms with the presence of our community. Although direct action is one of the most important ways we can respond to crises\, this event is instead focused on building mental and emotional capacity through creating tangible creative arts – in this case\, in the form of a Zine. Our goal is to create a needed space for our community to express ourselves safely within an intentionally curated environment and the presence of like-minded people. \nThe Pan Asian Collective is a QPIRG-McGill and QPIRG-Concordia working group. Throughout the year\, we host various events including a book club\, potlucks\, picnics\, film screenings\, discussion groups\, and an arts market with focus on Pan-Asian community engagement and education. The collective’s principles are rooted in leftist politics that center abolition and solidarity across global Indigenous struggles against colonialism\, capitalism\, and white supremacy – we welcome all Asian-identified folks who share our values to join us! \nDate and time: Friday\, March 22nd at 6pm\n \nLocation: 3480 rue McTavish\, Student Lounge (1st floor\, to the left of the main entrance) \nAccessibility: \nThe SSMU building at 3480 rue McTavish is wheelchair accessible. There are gender-neutral accessible bathrooms on the first floor. \nThis event is part of Spring into Action 2024: OUTRAGE. For more information visit qpirgmcgill.org/spring-into-action. \nIf you have any questions or concerns\, feel free to email us at info@qpirgmcgill.org.
URL:https://qpirgmcgill.org/fr/event/community-dinner/
LOCATION:SSMU Flex Space\, 3480 rue McTavish\, room 106\, Montreal\, QC\, H3A0E7 2H7\, Canada
CATEGORIES:Spring into Action 2024
ATTACH;FMTTYPE=image/jpeg:https://qpirgmcgill.org/wp-content/uploads/2024/02/outrage-wide-05-scaled.jpg
END:VEVENT
END:VCALENDAR