BEGIN:VCALENDAR
VERSION:2.0
PRODID:-//QPIRG McGill - ECPv6.15.20//NONSGML v1.0//EN
CALSCALE:GREGORIAN
METHOD:PUBLISH
X-WR-CALNAME:QPIRG McGill
X-ORIGINAL-URL:https://qpirgmcgill.org/fr
X-WR-CALDESC:Événements pour QPIRG McGill
REFRESH-INTERVAL;VALUE=DURATION:PT1H
X-Robots-Tag:noindex
X-PUBLISHED-TTL:PT1H
BEGIN:VTIMEZONE
TZID:America/Toronto
BEGIN:DAYLIGHT
TZOFFSETFROM:-0500
TZOFFSETTO:-0400
TZNAME:EDT
DTSTART:20230312T070000
END:DAYLIGHT
BEGIN:STANDARD
TZOFFSETFROM:-0400
TZOFFSETTO:-0500
TZNAME:EST
DTSTART:20231105T060000
END:STANDARD
BEGIN:DAYLIGHT
TZOFFSETFROM:-0500
TZOFFSETTO:-0400
TZNAME:EDT
DTSTART:20240310T070000
END:DAYLIGHT
BEGIN:STANDARD
TZOFFSETFROM:-0400
TZOFFSETTO:-0500
TZNAME:EST
DTSTART:20241103T060000
END:STANDARD
BEGIN:DAYLIGHT
TZOFFSETFROM:-0500
TZOFFSETTO:-0400
TZNAME:EDT
DTSTART:20250309T070000
END:DAYLIGHT
BEGIN:STANDARD
TZOFFSETFROM:-0400
TZOFFSETTO:-0500
TZNAME:EST
DTSTART:20251102T060000
END:STANDARD
END:VTIMEZONE
BEGIN:VEVENT
DTSTART;TZID=America/Toronto:20240530T180000
DTEND;TZID=America/Toronto:20240530T200000
DTSTAMP:20260425T095336
CREATED:20240529T220404Z
LAST-MODIFIED:20240704T180328Z
UID:3790-1717092000-1717099200@qpirgmcgill.org
SUMMARY:Film Screening: Battle of Chile
DESCRIPTION:Battle of Chile Film Screening\nJoin us for a screening of Battle of Chile: the Struggle of an Unarmed People. This three-part documentary by Patricio Guzmán chronicles the violent coup led by US-backed General Augusto Pinochet that overthrew Salvador Allende’s democratically-elected socialist government. \nWe will be screening the first of three parts of the documentary on May 30th at 6pm\, at SSMU (3480 rue McTavish)\, room 202. \nContent warning for this film: violence\, war\, death \nAccessibility: \nThe SSMU Building is wheelchair accessible. There are wheelchair accessible\, single stall bathrooms on the second floor.
URL:https://qpirgmcgill.org/fr/event/battle-of-chile/
LOCATION:SSMU Madeleine Parent Room\, 3480 rue McTavish\, Room 201\, Montreal\, QC\, H3A0E7\, Canada
ATTACH;FMTTYPE=image/jpeg:https://qpirgmcgill.org/wp-content/uploads/2024/05/battle-of-chile-04-scaled.jpg
END:VEVENT
END:VCALENDAR