BEGIN:VCALENDAR
VERSION:2.0
PRODID:-//QPIRG McGill - ECPv6.15.20//NONSGML v1.0//EN
CALSCALE:GREGORIAN
METHOD:PUBLISH
X-WR-CALNAME:QPIRG McGill
X-ORIGINAL-URL:https://qpirgmcgill.org/fr
X-WR-CALDESC:Événements pour QPIRG McGill
REFRESH-INTERVAL;VALUE=DURATION:PT1H
X-Robots-Tag:noindex
X-PUBLISHED-TTL:PT1H
BEGIN:VTIMEZONE
TZID:America/Toronto
BEGIN:DAYLIGHT
TZOFFSETFROM:-0500
TZOFFSETTO:-0400
TZNAME:EDT
DTSTART:20230312T070000
END:DAYLIGHT
BEGIN:STANDARD
TZOFFSETFROM:-0400
TZOFFSETTO:-0500
TZNAME:EST
DTSTART:20231105T060000
END:STANDARD
BEGIN:DAYLIGHT
TZOFFSETFROM:-0500
TZOFFSETTO:-0400
TZNAME:EDT
DTSTART:20240310T070000
END:DAYLIGHT
BEGIN:STANDARD
TZOFFSETFROM:-0400
TZOFFSETTO:-0500
TZNAME:EST
DTSTART:20241103T060000
END:STANDARD
BEGIN:DAYLIGHT
TZOFFSETFROM:-0500
TZOFFSETTO:-0400
TZNAME:EDT
DTSTART:20250309T070000
END:DAYLIGHT
BEGIN:STANDARD
TZOFFSETFROM:-0400
TZOFFSETTO:-0500
TZNAME:EST
DTSTART:20251102T060000
END:STANDARD
END:VTIMEZONE
BEGIN:VEVENT
DTSTART;TZID=America/Toronto:20240801T183000
DTEND;TZID=America/Toronto:20240801T200000
DTSTAMP:20260425T081618
CREATED:20240704T175741Z
LAST-MODIFIED:20240704T195306Z
UID:3835-1722537000-1722542400@qpirgmcgill.org
SUMMARY:Film Screening: Conviction
DESCRIPTION:Film Screening: Conviction\n\nQPIRG is screening Conviction (2019)\, a documentary that follows three incarcerated women inside the Central Nova Scotia Correctional Facility and Nova Institution for Women. This film questions the role of prisons in our society and prompts us to imagine alternatives to incarceration and the current justice system. \nDate and time: Thursday\, August 1\, 6:30pm\nLocation: QPIRG Concordia (2100 rue Guy\, #205) \nAccessibility: \nThere is an elevator in the building. There are two entrances. The entrance at 2100 Guy has one flight of stairs. \nFor step-free access\, use the entrance at 1625 de Maisonneuve Ouest. Buzz #0205 to be let through the automatic doors\, then take the elevator up to the second floor. The door to our space can be opened by automated button\, and swings out. There is a paid parking lot beside our building\, entrance on Guy. \nA list of other spaces downtown (Ville-Marie borough) reserved for people who have the blue-and-white parking permit can be found here: \nhttp://www.statdemtl.qc.ca/index.php?page_id=322&lang=en#sondage
URL:https://qpirgmcgill.org/fr/event/conviction/
LOCATION:QPIRG-Concordia\, 2100 rue Guy\, #205\, Montreal\, QC\, H3H 2M8\, Canada
ATTACH;FMTTYPE=image/jpeg:https://qpirgmcgill.org/wp-content/uploads/2024/07/conviction-wide-scaled.jpg
END:VEVENT
BEGIN:VEVENT
DTSTART;TZID=America/Toronto:20240823T190000
DTEND;TZID=America/Toronto:20240823T203000
DTSTAMP:20260425T081618
CREATED:20240822T195748Z
LAST-MODIFIED:20240822T200150Z
UID:3905-1724439600-1724445000@qpirgmcgill.org
SUMMARY:Tatreez Workshop
DESCRIPTION:Tatreez Workshop\nJoin us Friday\, August 23rd at 7pm for a special in-person event at Frigo Vert to learn the beautiful art of Tatreez with local Palestinian artist Amnna Attia. You will not only discover the rich cultural heritage of Gaza\, but explore the significance of Tatreez as a form of resistance against erasure and ethnic cleansing. \nPlease bring your kuffiyeh or shirt (or fabric) to embroider on. \nFriday\, August 23rd at 7pm \nLe Frigo Vert (1440 rue Mackay) \nPurchase your full or flex tickets for Rad Frosh 2024 here to join this amazing workshop- among other events which will\, through community learning and bonds\, free our minds!
URL:https://qpirgmcgill.org/fr/event/tatreez-workshop/
LOCATION:Le Frigo Vert\, 1440 rue Mackay\, Montreal\, QC\, Canada
ATTACH;FMTTYPE=image/png:https://qpirgmcgill.org/wp-content/uploads/2024/08/Screen-Shot-2024-08-22-at-3.45.28-PM.png
END:VEVENT
BEGIN:VEVENT
DTSTART;TZID=America/Toronto:20240824T113000
DTEND;TZID=America/Toronto:20240824T123000
DTSTAMP:20260425T081618
CREATED:20240822T202556Z
LAST-MODIFIED:20240822T202556Z
UID:3926-1724499000-1724502600@qpirgmcgill.org
SUMMARY:Police Free Schools: Safety on Campus Beyond Carceral Systems
DESCRIPTION:Police Free Schools: Safety on Campus Beyond Carceral Systems\nThis workshop will be a 101 session on abolition as it relates to education\, security culture at McGill and how it can be challenged (including the recent mobilization around Palestinian activism)\, police-free schools organizing across Turtle Island (what’s worked for organizers?)\, and an invitation to imagine what campus would look like without campus security/police and carceral/punitive measures in curriculum/teaching. \nThis workshop will be facilitated by Blain Haile and Attou Mamat\, two of École Sans Police organizers. ESP is a group of organizers dedicated to removing police from education. They are abolitionist organizers who believe that there is no room for carceral or punitive systems at any level of education. \nSaturday\, August 24 at 11:30am \nBurnside Hall (805 rue Sherbrooke O)\, room 1B18 \nPurchase your full or flex tickets for Rad Frosh 2024 here to join this important workshop among other events which will through community learning and bonds\, free our minds!
URL:https://qpirgmcgill.org/fr/event/police-free-schools/
LOCATION:Burnside 1B18\, 805 Sherbrooke O\, room 1B18\, Montreal\, Quebec\, Canada
ATTACH;FMTTYPE=image/png:https://qpirgmcgill.org/wp-content/uploads/2024/08/Screen-Shot-2024-08-22-at-3.50.14-PM.png
END:VEVENT
BEGIN:VEVENT
DTSTART;TZID=America/Toronto:20240824T140000
DTEND;TZID=America/Toronto:20240824T150000
DTSTAMP:20260425T081618
CREATED:20240822T202204Z
LAST-MODIFIED:20240822T202204Z
UID:3923-1724508000-1724511600@qpirgmcgill.org
SUMMARY:Know Your Rights Workshop
DESCRIPTION:Know Your Rights\nMcGill has a maze of policies…and some of them work in your favour. In the Radfrosh Know Your Rights workshop\, run by the office of the VP University Affairs at SSMU\, become an expert in your rights as a student: academically\, personally\, and even when you’re disrupting university activities. \nLearn what you’re entitled to and how to fight for it. And if McGill tries to punish you for campus activism\, you’ve got rights there\, too! \nFight bureaucracy with bureaucracy and dive into the shadowy world of grievances\, the charter of student rights\, Quebec law\, and playing along to a fucked-up rule book\, in this hour long workshop. There is an optional interactive component. \nSaturday\, August 24\, 2-3pm \nSSMU University Centre\, room 202 \nPurchase your full or flex tickets for Rad Frosh 2024 here to join this important workshop among other events which will through community learning and bonds\, free our minds!
URL:https://qpirgmcgill.org/fr/event/know-your-rights-workshop/
LOCATION:SSMU Madeleine Parent Room\, 3480 rue McTavish\, Room 201\, Montreal\, QC\, H3A0E7\, Canada
ATTACH;FMTTYPE=image/png:https://qpirgmcgill.org/wp-content/uploads/2024/08/Screen-Shot-2024-08-22-at-3.50.04-PM.png
END:VEVENT
BEGIN:VEVENT
DTSTART;TZID=America/Toronto:20240824T153000
DTEND;TZID=America/Toronto:20240824T170000
DTSTAMP:20260425T081618
CREATED:20240822T200809Z
LAST-MODIFIED:20240822T200809Z
UID:3913-1724513400-1724518800@qpirgmcgill.org
SUMMARY:Understanding and Surviving the Quebec Healthcare System
DESCRIPTION:Understanding and Surviving the Quebec Healthcare System\nJoin us Aug. 24\, 3:30pm for a workshop provided by The Trans Patient Union (TPU) on Understanding and Surviving the Québec Healthcare System! \nThe TPU is an advocacy and mutual aid collective by and for trans and nonbinary patients in Tio’tia:ke (“Montreal”). The TPU advocates to the standards of care for trans patients at health clinics and provides medical\, legal\, and institutional resources and one-on-one assistance to trans and NB people navigating the difficulties of transitioning in Tio’tia:ke. \nSaturday\, Aug. 24\, 3:30pm \nSSMU University Centre (3480 rue McTavish) room 202 \nPurchase your full or flex tickets for Rad Frosh 2024 here to join this amazing workshop among other events which will through community learning and bonds\, free our minds!
URL:https://qpirgmcgill.org/fr/event/tpu-rad-frosh/
LOCATION:SSMU Madeleine Parent Room\, 3480 rue McTavish\, Room 201\, Montreal\, QC\, H3A0E7\, Canada
ATTACH;FMTTYPE=image/jpeg:https://qpirgmcgill.org/wp-content/uploads/2024/06/tpu.jpeg
END:VEVENT
BEGIN:VEVENT
DTSTART;TZID=America/Toronto:20240825T113000
DTEND;TZID=America/Toronto:20240825T123000
DTSTAMP:20260425T081618
CREATED:20240822T201859Z
LAST-MODIFIED:20240822T201859Z
UID:3919-1724585400-1724589000@qpirgmcgill.org
SUMMARY:Workshop with AGSEM
DESCRIPTION:McGill IS A UNION UNIVERSITY (EVEN IF IT SAYS IT’S NOT)!\nJoin us for a workshop with the Association of Graduate Students Employed at McGill (AGSEM) on August 25th at 11:30 am to discuss union organizing on campus\, as well as strikes and solidarity. Following this past year’s TA strikes and protests\, we explore the importance of such mobilizations and the role of students too! \nAugust 25th at 11:30 am \nBurnside Building (805 Sherbrooke O)\, 1B18 \nPurchase your full or flex tickets for Rad Frosh 2024 here to join this important workshop among other events which will through community learning and bonds\, free our minds!
URL:https://qpirgmcgill.org/fr/event/workshop-with-agsem/
LOCATION:Burnside 1B18\, 805 Sherbrooke O\, room 1B18\, Montreal\, Quebec\, Canada
ATTACH;FMTTYPE=image/png:https://qpirgmcgill.org/wp-content/uploads/2024/08/Screen-Shot-2024-08-22-at-3.47.28-PM.png
END:VEVENT
BEGIN:VEVENT
DTSTART;TZID=America/Toronto:20240825T113000
DTEND;TZID=America/Toronto:20240825T123000
DTSTAMP:20260425T081618
CREATED:20240822T202837Z
LAST-MODIFIED:20240822T202837Z
UID:3929-1724585400-1724589000@qpirgmcgill.org
SUMMARY:Yoga in Parc Jeanne-Mance
DESCRIPTION:Yoga in Parc Jeanne-Mance\nJoin Pranvera this Sunday to connect with your breath and generate some heat through mindful movements! Yoga mats will be provided. \nPranvera completed her yoga training at Luna Yoga this past year. A certified to teach Flo (a style of yoga combining the Hatha\, Ashtanga\, and Jiva Mukti tradition)\, she has been student of yoga for nearly 10 years and is passionate about sharing the practice with others. \nSunday\, August 25 at 11:30am \nParc Jeanne Mance \nPurchase your full or flex tickets for Rad Frosh 2024 here to join this important workshop among other events which will through community learning and bonds\, free our minds!
URL:https://qpirgmcgill.org/fr/event/yoga-in-parc-jeanne-mance/
ATTACH;FMTTYPE=image/png:https://qpirgmcgill.org/wp-content/uploads/2024/08/Screen-Shot-2024-08-22-at-3.50.23-PM.png
END:VEVENT
BEGIN:VEVENT
DTSTART;TZID=America/Toronto:20240825T160000
DTEND;TZID=America/Toronto:20240825T170000
DTSTAMP:20260425T081618
CREATED:20240822T201359Z
LAST-MODIFIED:20240822T201501Z
UID:3915-1724601600-1724605200@qpirgmcgill.org
SUMMARY:All Eyes on McGill: Kahnistensera Solidarity Symposium
DESCRIPTION:All Eyes on McGill: Kahnistensera Solidarity Symposium\nRad Frosh will be hosting ALL EYES ON McGill Program on Sunday 25th August 2:30-5:30PM with the Kahnistensera (Mohawk Mothers)! Starting with a solidarity symposium and then a “McGill Denies Genocide” walking tour to the sites on campus related to weapons research and development and psychological warfare including the MK–Ultra experiments at Allan Memorial Institute and former Royal Victoria Hospital. We will end by holding a somber vigil by tying orange ribbons to the fences for the victims and survivors of the ongoing genocide against Indigenous peoples perpetrated and perpetuated by the so-called Canadian state\, church\, and institutional apparatuses. \nSunday 25th August 2:30-5:30PM \nSSMU University Centre (3480 rue McTavish) room 202 & 203 \nPurchase your full or flex tickets for Rad Frosh 2024 here to join this important workshop among other events which will through community learning and bonds\, free our minds!
URL:https://qpirgmcgill.org/fr/event/all-eyes-on-mcgill-kahnistensera-solidarity-symposium/
LOCATION:SSMU Madeleine Parent Room\, 3480 rue McTavish\, Room 201\, Montreal\, QC\, H3A0E7\, Canada
ATTACH;FMTTYPE=image/png:https://qpirgmcgill.org/wp-content/uploads/2024/08/Screen-Shot-2024-08-22-at-3.47.16-PM.png
END:VEVENT
BEGIN:VEVENT
DTSTART;TZID=America/Toronto:20240825T200000
DTEND;TZID=America/Toronto:20240825T220000
DTSTAMP:20260425T081618
CREATED:20240822T200055Z
LAST-MODIFIED:20240822T200055Z
UID:3908-1724616000-1724623200@qpirgmcgill.org
SUMMARY:Film Screening - Off Frame: Revolution Until Victory by Mohanad Yaqubi
DESCRIPTION:Off Frame: Revolution Until Victory by Mohanad Yaqubi\nJoin us Sunday\, August 25th at 8pm for a Palestinian film screening of Off Frame: Revolution Until Victory by Mohanad Yaqubi. We explore themes of resistance\, nationhood and national liberation; themes that have been especially relevant for the past 10-months\, but also 76 years. As we place ourselves in the context of deliberate erasure and ethnic cleansing at the hands of the Zionist regime\, these films become a way for us to forcefully engage with the past and history of the Palestinian people despite attempts to hide it and bury it. \nSunday\, August 25th at 8pm \nLe Frigo Vert (1440 rue Mackay) \nThe event will be in collaboration with SPHR McGill and Cinema Politica! \nPurchase your full or flex tickets for Rad Frosh 2024 here to join this amazing workshop among other events which will through community learning and bonds\, free our minds!
URL:https://qpirgmcgill.org/fr/event/film-screening-off-frame-revolution-until-victory-by-mohanad-yaqubi/
LOCATION:Le Frigo Vert\, 1440 rue Mackay\, Montreal\, QC\, Canada
ATTACH;FMTTYPE=image/png:https://qpirgmcgill.org/wp-content/uploads/2024/08/Screen-Shot-2024-08-22-at-3.46.59-PM.png
END:VEVENT
END:VCALENDAR