BEGIN:VCALENDAR
VERSION:2.0
PRODID:-//QPIRG McGill - ECPv6.15.20//NONSGML v1.0//EN
CALSCALE:GREGORIAN
METHOD:PUBLISH
X-WR-CALNAME:QPIRG McGill
X-ORIGINAL-URL:https://qpirgmcgill.org/fr
X-WR-CALDESC:Événements pour QPIRG McGill
REFRESH-INTERVAL;VALUE=DURATION:PT1H
X-Robots-Tag:noindex
X-PUBLISHED-TTL:PT1H
BEGIN:VTIMEZONE
TZID:America/Toronto
BEGIN:DAYLIGHT
TZOFFSETFROM:-0500
TZOFFSETTO:-0400
TZNAME:EDT
DTSTART:20240310T070000
END:DAYLIGHT
BEGIN:STANDARD
TZOFFSETFROM:-0400
TZOFFSETTO:-0500
TZNAME:EST
DTSTART:20241103T060000
END:STANDARD
BEGIN:DAYLIGHT
TZOFFSETFROM:-0500
TZOFFSETTO:-0400
TZNAME:EDT
DTSTART:20250309T070000
END:DAYLIGHT
BEGIN:STANDARD
TZOFFSETFROM:-0400
TZOFFSETTO:-0500
TZNAME:EST
DTSTART:20251102T060000
END:STANDARD
BEGIN:DAYLIGHT
TZOFFSETFROM:-0500
TZOFFSETTO:-0400
TZNAME:EDT
DTSTART:20260308T070000
END:DAYLIGHT
BEGIN:STANDARD
TZOFFSETFROM:-0400
TZOFFSETTO:-0500
TZNAME:EST
DTSTART:20261101T060000
END:STANDARD
END:VTIMEZONE
BEGIN:VEVENT
DTSTART;TZID=America/Toronto:20250902T130000
DTEND;TZID=America/Toronto:20250902T180000
DTSTAMP:20260424T101014
CREATED:20250826T190052Z
LAST-MODIFIED:20250826T190052Z
UID:4927-1756818000-1756836000@qpirgmcgill.org
SUMMARY:Library Day
DESCRIPTION:Library Day\n \nQPIRG-McGill is hosting Library Day\, an open house with programming throughout the day on Tuesday\, September 2nd! Come by the QPIRG-McGill Alternative Library at 3516 Ave. Parc between 1 and 6pm to learn about how the library works\, make a button\, write your own zine\, and to have some yummy free food! \nWhen: September 2\, 1-6pm \nWhere: 3516 Av du Parc\, first floor \nPresentation on the library: 1-1:30pm \nZine Workshop: 3:00-3:30pm
URL:https://qpirgmcgill.org/fr/event/library-day/
LOCATION:QPIRG-McGill Alternative Library\, 3516 Avenue du Parc\, Montreal\, Quebec\, H2X 2H7\, Canada
END:VEVENT
END:VCALENDAR