BEGIN:VCALENDAR
VERSION:2.0
PRODID:-//QPIRG McGill - ECPv6.15.20//NONSGML v1.0//EN
CALSCALE:GREGORIAN
METHOD:PUBLISH
X-ORIGINAL-URL:https://qpirgmcgill.org/fr
X-WR-CALDESC:Événements pour QPIRG McGill
REFRESH-INTERVAL;VALUE=DURATION:PT1H
X-Robots-Tag:noindex
X-PUBLISHED-TTL:PT1H
BEGIN:VTIMEZONE
TZID:America/Toronto
BEGIN:DAYLIGHT
TZOFFSETFROM:-0500
TZOFFSETTO:-0400
TZNAME:EDT
DTSTART:20220313T070000
END:DAYLIGHT
BEGIN:STANDARD
TZOFFSETFROM:-0400
TZOFFSETTO:-0500
TZNAME:EST
DTSTART:20221106T060000
END:STANDARD
BEGIN:DAYLIGHT
TZOFFSETFROM:-0500
TZOFFSETTO:-0400
TZNAME:EDT
DTSTART:20230312T070000
END:DAYLIGHT
BEGIN:STANDARD
TZOFFSETFROM:-0400
TZOFFSETTO:-0500
TZNAME:EST
DTSTART:20231105T060000
END:STANDARD
BEGIN:DAYLIGHT
TZOFFSETFROM:-0500
TZOFFSETTO:-0400
TZNAME:EDT
DTSTART:20240310T070000
END:DAYLIGHT
BEGIN:STANDARD
TZOFFSETFROM:-0400
TZOFFSETTO:-0500
TZNAME:EST
DTSTART:20241103T060000
END:STANDARD
END:VTIMEZONE
BEGIN:VEVENT
DTSTART;TZID=America/Toronto:20230427T150000
DTEND;TZID=America/Toronto:20230427T180000
DTSTAMP:20260425T230211
CREATED:20230329T175726Z
LAST-MODIFIED:20230329T180653Z
UID:3150-1682607600-1682618400@qpirgmcgill.org
SUMMARY:Annual General Meeting 2023
DESCRIPTION:QPIRG Annual General Meeting 2023\n \nJoin us for this year’s Annual General Meeting on April 27th at 3PM! \nRegister on Zoom here. \nCome and learn about the projects QPIRG and its working groups have been developing over the past year. \nWe’ll also be electing new board members for 2023-2024!\nAs a board member\, you will have the opportunity to:\n• Learn more about and/or support important social and environmental issues in Montreal\n• Make QPIRG-McGill a more active and effective organization\n• Work within a collective\n• Develop skills like problem-solving\, supervision\, financial management and event planning \nReturning and prospective board members are elected at our AGM each year. To apply\, fill out the nomination form:\nhttps://forms.gle/Tj5V3KQsPjHkmxzM7 \nEmail us at info@qpirgmcgill.org if you have any questions.
URL:https://qpirgmcgill.org/fr/event/annual-general-meeting-2023/
ATTACH;FMTTYPE=image/png:https://qpirgmcgill.org/wp-content/uploads/2023/03/2023-agm-ad-04.png
END:VEVENT
END:VCALENDAR