BEGIN:VCALENDAR
VERSION:2.0
PRODID:-//QPIRG McGill - ECPv6.15.20//NONSGML v1.0//EN
CALSCALE:GREGORIAN
METHOD:PUBLISH
X-ORIGINAL-URL:https://qpirgmcgill.org/fr
X-WR-CALDESC:Événements pour QPIRG McGill
REFRESH-INTERVAL;VALUE=DURATION:PT1H
X-Robots-Tag:noindex
X-PUBLISHED-TTL:PT1H
BEGIN:VTIMEZONE
TZID:America/Toronto
BEGIN:DAYLIGHT
TZOFFSETFROM:-0500
TZOFFSETTO:-0400
TZNAME:EDT
DTSTART:20230312T070000
END:DAYLIGHT
BEGIN:STANDARD
TZOFFSETFROM:-0400
TZOFFSETTO:-0500
TZNAME:EST
DTSTART:20231105T060000
END:STANDARD
BEGIN:DAYLIGHT
TZOFFSETFROM:-0500
TZOFFSETTO:-0400
TZNAME:EDT
DTSTART:20240310T070000
END:DAYLIGHT
BEGIN:STANDARD
TZOFFSETFROM:-0400
TZOFFSETTO:-0500
TZNAME:EST
DTSTART:20241103T060000
END:STANDARD
BEGIN:DAYLIGHT
TZOFFSETFROM:-0500
TZOFFSETTO:-0400
TZNAME:EDT
DTSTART:20250309T070000
END:DAYLIGHT
BEGIN:STANDARD
TZOFFSETFROM:-0400
TZOFFSETTO:-0500
TZNAME:EST
DTSTART:20251102T060000
END:STANDARD
END:VTIMEZONE
BEGIN:VEVENT
DTSTART;VALUE=DATE:20240114
DTEND;VALUE=DATE:20240115
DTSTAMP:20260425T093404
CREATED:20240103T215212Z
LAST-MODIFIED:20240103T215532Z
UID:3539-1705190400-1705276799@qpirgmcgill.org
SUMMARY:Call for Submissions: Convergence Zine
DESCRIPTION:Convergence is back!\nCall for submissions\nThis is a call for submissions for the ninth issue of Convergence! \nWe are seeking submissions on a wide range of issues and ideas from students or community members\, with a focus on community-based social justice research. We are also looking for creative formats\, such as poetry\, cultural expression\, collages\, fiction stories\, visual artwork\, photo essays\, community-based art installations\, recipes\, (interactive) maps and charts\, as well as a variety of written contributions\, including research essays\, and articles. \nSubmit your pieces here: forms.gle/XvREWBznXdwhYnmRA \nDeadline to submit works is Sunday\, January 14th at 11:59pm. To learn more about Convergence\, check out the website convergencejournal.ca.
URL:https://qpirgmcgill.org/fr/event/callout-convergence/
ATTACH;FMTTYPE=image/png:https://qpirgmcgill.org/wp-content/uploads/2024/01/Screen-Shot-2024-01-03-at-4.01.56-PM.png
END:VEVENT
END:VCALENDAR