BEGIN:VCALENDAR
VERSION:2.0
PRODID:-//QPIRG McGill - ECPv6.15.20//NONSGML v1.0//EN
CALSCALE:GREGORIAN
METHOD:PUBLISH
X-WR-CALNAME:QPIRG McGill
X-ORIGINAL-URL:https://qpirgmcgill.org/fr
X-WR-CALDESC:Événements pour QPIRG McGill
REFRESH-INTERVAL;VALUE=DURATION:PT1H
X-Robots-Tag:noindex
X-PUBLISHED-TTL:PT1H
BEGIN:VTIMEZONE
TZID:America/Toronto
BEGIN:DAYLIGHT
TZOFFSETFROM:-0500
TZOFFSETTO:-0400
TZNAME:EDT
DTSTART:20230312T070000
END:DAYLIGHT
BEGIN:STANDARD
TZOFFSETFROM:-0400
TZOFFSETTO:-0500
TZNAME:EST
DTSTART:20231105T060000
END:STANDARD
BEGIN:DAYLIGHT
TZOFFSETFROM:-0500
TZOFFSETTO:-0400
TZNAME:EDT
DTSTART:20240310T070000
END:DAYLIGHT
BEGIN:STANDARD
TZOFFSETFROM:-0400
TZOFFSETTO:-0500
TZNAME:EST
DTSTART:20241103T060000
END:STANDARD
BEGIN:DAYLIGHT
TZOFFSETFROM:-0500
TZOFFSETTO:-0400
TZNAME:EDT
DTSTART:20250309T070000
END:DAYLIGHT
BEGIN:STANDARD
TZOFFSETFROM:-0400
TZOFFSETTO:-0500
TZNAME:EST
DTSTART:20251102T060000
END:STANDARD
END:VTIMEZONE
BEGIN:VEVENT
DTSTART;TZID=America/Toronto:20240311T180000
DTEND;TZID=America/Toronto:20240311T200000
DTSTAMP:20260425T063536
CREATED:20240213T181458Z
LAST-MODIFIED:20240227T224725Z
UID:3597-1710180000-1710187200@qpirgmcgill.org
SUMMARY:Plant Allies for Rage and Resilience
DESCRIPTION:Plant Allies for Rage and Resilience\nCome and learn with Andrea Macdonald\, Two Spirit Anishinaabe herbalist and community educator\, about a few local\, abundant plants that support the various body systems impacted by prolonged anger and stress. There will be a tea tasting and burdock pickling demonstration\, during which we will discuss care strategies to support our loved ones and ourselves during these outrageous times. \nDate and time: Monday\, March 11th at 6pm \nLocation: Frigo Vert (1440 rue Mackay) \nThis event is part of Spring into Action 2024: OUTRAGE. For more information visit qpirgmcgill.org/spring-into-action.  \nAccessibility:  \nFrigo Vert is a wheelchair accessible space. There are gender-neutral and accessible bathrooms in the space. \nIf you have any questions or concerns\, please email us at info@qpirgmcgill.org.
URL:https://qpirgmcgill.org/fr/event/plant-allies/
LOCATION:Le Frigo Vert\, 1440 rue Mackay\, Montreal\, QC\, Canada
CATEGORIES:Spring into Action 2024
ATTACH;FMTTYPE=image/jpeg:https://qpirgmcgill.org/wp-content/uploads/2024/02/outrage-wide-05-scaled.jpg
END:VEVENT
END:VCALENDAR