BEGIN:VCALENDAR
VERSION:2.0
PRODID:-//QPIRG McGill - ECPv6.15.20//NONSGML v1.0//EN
CALSCALE:GREGORIAN
METHOD:PUBLISH
X-WR-CALNAME:QPIRG McGill
X-ORIGINAL-URL:https://qpirgmcgill.org/fr
X-WR-CALDESC:Événements pour QPIRG McGill
REFRESH-INTERVAL;VALUE=DURATION:PT1H
X-Robots-Tag:noindex
X-PUBLISHED-TTL:PT1H
BEGIN:VTIMEZONE
TZID:America/Toronto
BEGIN:DAYLIGHT
TZOFFSETFROM:-0500
TZOFFSETTO:-0400
TZNAME:EDT
DTSTART:20230312T070000
END:DAYLIGHT
BEGIN:STANDARD
TZOFFSETFROM:-0400
TZOFFSETTO:-0500
TZNAME:EST
DTSTART:20231105T060000
END:STANDARD
BEGIN:DAYLIGHT
TZOFFSETFROM:-0500
TZOFFSETTO:-0400
TZNAME:EDT
DTSTART:20240310T070000
END:DAYLIGHT
BEGIN:STANDARD
TZOFFSETFROM:-0400
TZOFFSETTO:-0500
TZNAME:EST
DTSTART:20241103T060000
END:STANDARD
BEGIN:DAYLIGHT
TZOFFSETFROM:-0500
TZOFFSETTO:-0400
TZNAME:EDT
DTSTART:20250309T070000
END:DAYLIGHT
BEGIN:STANDARD
TZOFFSETFROM:-0400
TZOFFSETTO:-0500
TZNAME:EST
DTSTART:20251102T060000
END:STANDARD
END:VTIMEZONE
BEGIN:VEVENT
DTSTART;TZID=America/Toronto:20240319T190000
DTEND;TZID=America/Toronto:20240319T210000
DTSTAMP:20260425T063517
CREATED:20240213T185231Z
LAST-MODIFIED:20240227T224701Z
UID:3613-1710874800-1710882000@qpirgmcgill.org
SUMMARY:Prison Abolition 101
DESCRIPTION:Prison Abolition 101\nJoin us for a workshop that offers community members an introduction to prisoner solidarity work and prison abolition\, as well as an introduction to the Prisoner Correspondence Project and our role in the abolitionist movement. Centering the lived experiences of the project’s imprisoned 2SLGBTQ+ members\, this workshop will look at the systematic violence of prisons\, both on an individual and structural level; explore the differences between reform versus abolition; and investigate some of the ways that we as individuals\, organizations and movements can work towards abolition. We hope that this presentation will be of interest to people who are new to the concept of prison abolition\, and to those who are familiar with it but are looking for concrete ways to get involved in abolitionist work. Given the scope of our project\, our workshop will emphasize prison abolition as it intersects with queer activism\, but we of course welcome community members of all identities to attend. \nThe Prisoner Correspondence Project is a solidarity project for gay\, lesbian\, transsexual\, transgender\, gendervariant\, two-spirit\, intersex\, bisexual and queer prisoners in Canada and the United States\, linking them with people a part of these same communities outside of prison. \nDate and time: Tuesday\, March 19th at 7pm \nLocation: QPIRG-Concordia (2100 rue Guy\, room #205) \nThis event is part of Spring into Action 2024: OUTRAGE. For more information visit qpirgmcgill.org/spring-into-action. \nAccessibility: \nThere is an elevator in the building. There are two entrances. The entrance at 2100 Guy has one flight of stairs. \nFor step-free access\, use the entrance at 1625 de Maisonneuve Ouest. Buzz #0205 to be let through the automatic doors\, then take the elevator up to the second floor. The door to our space can be opened by automated button\, and swings out. There is a paid parking lot beside our building\, entrance on Guy. \nA list of other spaces downtown (Ville-Marie borough) reserved for people who have the blue-and-white parking permit can be found here: \nhttp://www.statdemtl.qc.ca/index.php?page_id=322&lang=en#sondage
URL:https://qpirgmcgill.org/fr/event/prison-abolition/
LOCATION:QPIRG-Concordia\, 2100 rue Guy\, #205\, Montreal\, QC\, H3H 2M8\, Canada
CATEGORIES:Spring into Action 2024
ATTACH;FMTTYPE=image/jpeg:https://qpirgmcgill.org/wp-content/uploads/2024/02/outrage-wide-06-scaled.jpg
END:VEVENT
END:VCALENDAR