BEGIN:VCALENDAR
VERSION:2.0
PRODID:-//QPIRG McGill - ECPv6.15.20//NONSGML v1.0//EN
CALSCALE:GREGORIAN
METHOD:PUBLISH
X-ORIGINAL-URL:https://qpirgmcgill.org/fr
X-WR-CALDESC:Événements pour QPIRG McGill
REFRESH-INTERVAL;VALUE=DURATION:PT1H
X-Robots-Tag:noindex
X-PUBLISHED-TTL:PT1H
BEGIN:VTIMEZONE
TZID:America/Toronto
BEGIN:DAYLIGHT
TZOFFSETFROM:-0500
TZOFFSETTO:-0400
TZNAME:EDT
DTSTART:20230312T070000
END:DAYLIGHT
BEGIN:STANDARD
TZOFFSETFROM:-0400
TZOFFSETTO:-0500
TZNAME:EST
DTSTART:20231105T060000
END:STANDARD
BEGIN:DAYLIGHT
TZOFFSETFROM:-0500
TZOFFSETTO:-0400
TZNAME:EDT
DTSTART:20240310T070000
END:DAYLIGHT
BEGIN:STANDARD
TZOFFSETFROM:-0400
TZOFFSETTO:-0500
TZNAME:EST
DTSTART:20241103T060000
END:STANDARD
BEGIN:DAYLIGHT
TZOFFSETFROM:-0500
TZOFFSETTO:-0400
TZNAME:EDT
DTSTART:20250309T070000
END:DAYLIGHT
BEGIN:STANDARD
TZOFFSETFROM:-0400
TZOFFSETTO:-0500
TZNAME:EST
DTSTART:20251102T060000
END:STANDARD
END:VTIMEZONE
BEGIN:VEVENT
DTSTART;TZID=America/Toronto:20240322T180000
DTEND;TZID=America/Toronto:20240322T200000
DTSTAMP:20260425T063721
CREATED:20240213T185628Z
LAST-MODIFIED:20240227T224656Z
UID:3616-1711130400-1711137600@qpirgmcgill.org
SUMMARY:Community Dinner and PAC Zine Night
DESCRIPTION:Community Dinner and PAC Zine Night\nRegister to attend this event here. \nJoin us for a free community dinner and an evening of zine-making with the Pan-Asian Collective (PAC)! Vegan meals will be provided by Midnight Kitchen and People’s Potato. \nFor this year’s Spring into Action 2024 theme\, “Outrage\,” PAC is excited to host a Community Zine Night to provide a safe space for channeling anger and despair into tangible forms with the presence of our community. Although direct action is one of the most important ways we can respond to crises\, this event is instead focused on building mental and emotional capacity through creating tangible creative arts – in this case\, in the form of a Zine. Our goal is to create a needed space for our community to express ourselves safely within an intentionally curated environment and the presence of like-minded people. \nThe Pan Asian Collective is a QPIRG-McGill and QPIRG-Concordia working group. Throughout the year\, we host various events including a book club\, potlucks\, picnics\, film screenings\, discussion groups\, and an arts market with focus on Pan-Asian community engagement and education. The collective’s principles are rooted in leftist politics that center abolition and solidarity across global Indigenous struggles against colonialism\, capitalism\, and white supremacy – we welcome all Asian-identified folks who share our values to join us! \nDate and time: Friday\, March 22nd at 6pm\n \nLocation: 3480 rue McTavish\, Student Lounge (1st floor\, to the left of the main entrance) \nAccessibility: \nThe SSMU building at 3480 rue McTavish is wheelchair accessible. There are gender-neutral accessible bathrooms on the first floor. \nThis event is part of Spring into Action 2024: OUTRAGE. For more information visit qpirgmcgill.org/spring-into-action. \nIf you have any questions or concerns\, feel free to email us at info@qpirgmcgill.org.
URL:https://qpirgmcgill.org/fr/event/community-dinner/
LOCATION:SSMU Flex Space\, 3480 rue McTavish\, room 106\, Montreal\, QC\, H3A0E7 2H7\, Canada
CATEGORIES:Spring into Action 2024
ATTACH;FMTTYPE=image/jpeg:https://qpirgmcgill.org/wp-content/uploads/2024/02/outrage-wide-05-scaled.jpg
END:VEVENT
END:VCALENDAR