BEGIN:VCALENDAR
VERSION:2.0
PRODID:-//QPIRG McGill - ECPv6.15.20//NONSGML v1.0//EN
CALSCALE:GREGORIAN
METHOD:PUBLISH
X-WR-CALNAME:QPIRG McGill
X-ORIGINAL-URL:https://qpirgmcgill.org/fr
X-WR-CALDESC:Événements pour QPIRG McGill
REFRESH-INTERVAL;VALUE=DURATION:PT1H
X-Robots-Tag:noindex
X-PUBLISHED-TTL:PT1H
BEGIN:VTIMEZONE
TZID:America/Toronto
BEGIN:DAYLIGHT
TZOFFSETFROM:-0500
TZOFFSETTO:-0400
TZNAME:EDT
DTSTART:20230312T070000
END:DAYLIGHT
BEGIN:STANDARD
TZOFFSETFROM:-0400
TZOFFSETTO:-0500
TZNAME:EST
DTSTART:20231105T060000
END:STANDARD
BEGIN:DAYLIGHT
TZOFFSETFROM:-0500
TZOFFSETTO:-0400
TZNAME:EDT
DTSTART:20240310T070000
END:DAYLIGHT
BEGIN:STANDARD
TZOFFSETFROM:-0400
TZOFFSETTO:-0500
TZNAME:EST
DTSTART:20241103T060000
END:STANDARD
BEGIN:DAYLIGHT
TZOFFSETFROM:-0500
TZOFFSETTO:-0400
TZNAME:EDT
DTSTART:20250309T070000
END:DAYLIGHT
BEGIN:STANDARD
TZOFFSETFROM:-0400
TZOFFSETTO:-0500
TZNAME:EST
DTSTART:20251102T060000
END:STANDARD
END:VTIMEZONE
BEGIN:VEVENT
DTSTART;TZID=America/Toronto:20241021T180000
DTEND;TZID=America/Toronto:20241021T200000
DTSTAMP:20260424T200709
CREATED:20240920T181844Z
LAST-MODIFIED:20241015T202713Z
UID:4009-1729533600-1729540800@qpirgmcgill.org
SUMMARY:Community Dinner
DESCRIPTION:Community Dinner\nThe week of Culture Shock will kick off with a free vegan dinner from Midnight Kitchen! Join QPIRG at the SSMU Flex Space (on the first floor\, to the left) on Monday\, October 21st at 6pm. Plates and cutlery will be provided\, but feel free to bring a tupperware container if you want to take home extras! \nThis event is part of Culture Shock 2024! Culture Shock is an annual event series on anti-racism\, migrant justice\, and Indigenous solidarity. It seeks to bring together racialized communities to discuss issues relevant to their lives\, as well as to allow those who do not belong to these communities to learn more about struggles against racism\, colonialism and border violence. Every year\, QPIRG brings panels\, workshops\, film screenings\, performance nights and fundraiser parties to McGill students and broader Montreal communities. \nCulture Shock 2024 will take place from October 21st to 30th. For more information\, visit qpirgmcgill.org/cs \nAccessibility: \nThe SSMU University Centre is wheelchair accessible. There are gender-neutral bathrooms on the second and third floor.
URL:https://qpirgmcgill.org/fr/event/community-dinner-2/
LOCATION:SSMU Flex Space\, 3480 rue McTavish\, room 106\, Montreal\, QC\, H3A0E7 2H7\, Canada
CATEGORIES:Culture Shock 2024
ATTACH;FMTTYPE=image/png:https://qpirgmcgill.org/wp-content/uploads/2024/09/Culture-Shock-2024-posts-1920-x-1080-px-1.png
END:VEVENT
END:VCALENDAR