BEGIN:VCALENDAR
VERSION:2.0
PRODID:-//QPIRG McGill - ECPv6.15.20//NONSGML v1.0//EN
CALSCALE:GREGORIAN
METHOD:PUBLISH
X-WR-CALNAME:QPIRG McGill
X-ORIGINAL-URL:https://qpirgmcgill.org/fr
X-WR-CALDESC:Événements pour QPIRG McGill
REFRESH-INTERVAL;VALUE=DURATION:PT1H
X-Robots-Tag:noindex
X-PUBLISHED-TTL:PT1H
BEGIN:VTIMEZONE
TZID:America/Toronto
BEGIN:DAYLIGHT
TZOFFSETFROM:-0500
TZOFFSETTO:-0400
TZNAME:EDT
DTSTART:20240310T070000
END:DAYLIGHT
BEGIN:STANDARD
TZOFFSETFROM:-0400
TZOFFSETTO:-0500
TZNAME:EST
DTSTART:20241103T060000
END:STANDARD
BEGIN:DAYLIGHT
TZOFFSETFROM:-0500
TZOFFSETTO:-0400
TZNAME:EDT
DTSTART:20250309T070000
END:DAYLIGHT
BEGIN:STANDARD
TZOFFSETFROM:-0400
TZOFFSETTO:-0500
TZNAME:EST
DTSTART:20251102T060000
END:STANDARD
BEGIN:DAYLIGHT
TZOFFSETFROM:-0500
TZOFFSETTO:-0400
TZNAME:EDT
DTSTART:20260308T070000
END:DAYLIGHT
BEGIN:STANDARD
TZOFFSETFROM:-0400
TZOFFSETTO:-0500
TZNAME:EST
DTSTART:20261101T060000
END:STANDARD
END:VTIMEZONE
BEGIN:VEVENT
DTSTART;TZID=America/Toronto:20250701T140000
DTEND;TZID=America/Toronto:20250701T170000
DTSTAMP:20260424T070241
CREATED:20250617T181922Z
LAST-MODIFIED:20250617T182357Z
UID:4594-1751378400-1751389200@qpirgmcgill.org
SUMMARY:Anti Canada Day BBQ and Fundraiser
DESCRIPTION:Anti Canada Day BBQ and Fundraiser\nJoin us for a decolonial anti-Canada day BBQ and fundraiser on July 1st\, 2-6pm! We will meet at Parc Jeanne-Mance (near the corner of Mont-Royal and Parc). There will be vegan and gluten-friendly options. \nGrab some free food and mingle with tablers from the Palestinian Feminist Collective\, Spring Network\, Health Workers Alliance for Palestine\, the Mohawk Mothers\, and more! Fundraising proceeds will go towards a variety of local decolonial struggles – details TBA.
URL:https://qpirgmcgill.org/fr/event/anti-canada-day-bbq-and-fundraiser/
LOCATION:Parc Jeanne Mance
ATTACH;FMTTYPE=image/png:https://qpirgmcgill.org/wp-content/uploads/2025/06/2025-06-QPIRG-Anti-canada-day.png
END:VEVENT
END:VCALENDAR