BEGIN:VCALENDAR
VERSION:2.0
PRODID:-//QPIRG McGill - ECPv6.15.20//NONSGML v1.0//EN
CALSCALE:GREGORIAN
METHOD:PUBLISH
X-ORIGINAL-URL:https://qpirgmcgill.org/fr
X-WR-CALDESC:Événements pour QPIRG McGill
REFRESH-INTERVAL;VALUE=DURATION:PT1H
X-Robots-Tag:noindex
X-PUBLISHED-TTL:PT1H
BEGIN:VTIMEZONE
TZID:America/Toronto
BEGIN:DAYLIGHT
TZOFFSETFROM:-0500
TZOFFSETTO:-0400
TZNAME:EDT
DTSTART:20240310T070000
END:DAYLIGHT
BEGIN:STANDARD
TZOFFSETFROM:-0400
TZOFFSETTO:-0500
TZNAME:EST
DTSTART:20241103T060000
END:STANDARD
BEGIN:DAYLIGHT
TZOFFSETFROM:-0500
TZOFFSETTO:-0400
TZNAME:EDT
DTSTART:20250309T070000
END:DAYLIGHT
BEGIN:STANDARD
TZOFFSETFROM:-0400
TZOFFSETTO:-0500
TZNAME:EST
DTSTART:20251102T060000
END:STANDARD
BEGIN:DAYLIGHT
TZOFFSETFROM:-0500
TZOFFSETTO:-0400
TZNAME:EDT
DTSTART:20260308T070000
END:DAYLIGHT
BEGIN:STANDARD
TZOFFSETFROM:-0400
TZOFFSETTO:-0500
TZNAME:EST
DTSTART:20261101T060000
END:STANDARD
END:VTIMEZONE
BEGIN:VEVENT
DTSTART;TZID=America/Toronto:20250824T130000
DTEND;TZID=America/Toronto:20250824T160000
DTSTAMP:20260424T053328
CREATED:20250819T202338Z
LAST-MODIFIED:20250819T202338Z
UID:4909-1756040400-1756051200@qpirgmcgill.org
SUMMARY:Anti-Capitalist Queer Picnic
DESCRIPTION:Anti-Capitalist Queer Picnic\nDear community\, \nCome join QPIRG community for our third annual picnic and BBQ! This year\, we will be meeting close to the Verdun waterfront – come share a meal\, have a chat\, and spend some time in the sun. The picnic has a queer\, anticapitalist theme\, but everyone is welcome! \nWhere: Parc Arthur Therrien\, close to the baseball field – between Métro De L’Église and Lasalle\nWhen: 1pm to 4pm \nBring your flyers and materials if you want to share your group’s work with the others\, and don’t hesitate to get in touch if you would like to co-host or help set things up. \nCheers\, \nYour friends at the PIRGs
URL:https://qpirgmcgill.org/fr/event/anti-capitalist-queer-picnic/
END:VEVENT
END:VCALENDAR