BEGIN:VCALENDAR
VERSION:2.0
PRODID:-//QPIRG McGill - ECPv6.15.20//NONSGML v1.0//EN
CALSCALE:GREGORIAN
METHOD:PUBLISH
X-WR-CALNAME:QPIRG McGill
X-ORIGINAL-URL:https://qpirgmcgill.org/fr
X-WR-CALDESC:Événements pour QPIRG McGill
REFRESH-INTERVAL;VALUE=DURATION:PT1H
X-Robots-Tag:noindex
X-PUBLISHED-TTL:PT1H
BEGIN:VTIMEZONE
TZID:America/Toronto
BEGIN:DAYLIGHT
TZOFFSETFROM:-0500
TZOFFSETTO:-0400
TZNAME:EDT
DTSTART:20240310T070000
END:DAYLIGHT
BEGIN:STANDARD
TZOFFSETFROM:-0400
TZOFFSETTO:-0500
TZNAME:EST
DTSTART:20241103T060000
END:STANDARD
BEGIN:DAYLIGHT
TZOFFSETFROM:-0500
TZOFFSETTO:-0400
TZNAME:EDT
DTSTART:20250309T070000
END:DAYLIGHT
BEGIN:STANDARD
TZOFFSETFROM:-0400
TZOFFSETTO:-0500
TZNAME:EST
DTSTART:20251102T060000
END:STANDARD
BEGIN:DAYLIGHT
TZOFFSETFROM:-0500
TZOFFSETTO:-0400
TZNAME:EDT
DTSTART:20260308T070000
END:DAYLIGHT
BEGIN:STANDARD
TZOFFSETFROM:-0400
TZOFFSETTO:-0500
TZNAME:EST
DTSTART:20261101T060000
END:STANDARD
END:VTIMEZONE
BEGIN:VEVENT
DTSTART;TZID=America/Toronto:20250829T000000
DTEND;TZID=America/Toronto:20250831T235959
DTSTAMP:20260424T041445
CREATED:20250819T201102Z
LAST-MODIFIED:20250819T201139Z
UID:4902-1756425600-1756684799@qpirgmcgill.org
SUMMARY:Rad Frosh 2025
DESCRIPTION:Rad Frosh 2025\nRad Frosh 2025 is happening August 29–31! \nRad Frosh is a three-day alternative orientation for students who want to connect\, learn\, and build community\, all through a social justice lens. \nThis year’s theme\, All Roads Lead to Rad\, invites you to explore where your story meets collective resistance.\nExpect: \n\nCatered meals\nArt & reflection spaces\nSkill-building workshops\nPanels on activism\, organizing & movement-building\nWe kick off with a campus tour that challenges colonial histories\, and dive into a Friday night panel on McGill\, repression\, and lawfare\, with voices from across campus and beyond.\nWhether you’re new to Tio’tia:ke/Mooniyang or just looking for a space that feels real\, this is your Frosh.\n\nThis unique experience will give you the chance to get to know activist and community groups on campus and beyond\, while also introducing you to more social justice issues. \nRad Frosh is open to all McGill students! Registration for Rad Frosh is open now on MyInvolvement! \nRegistration for Rad Frosh costs $80. Rad Frosh operates to be as accessible as possible\, and offers a pay-what-you-can bursary option on the registration platform. \nContact us for more information.
URL:https://qpirgmcgill.org/fr/event/rad-frosh-2025/
END:VEVENT
END:VCALENDAR