BEGIN:VCALENDAR
VERSION:2.0
PRODID:-//QPIRG McGill - ECPv6.15.20//NONSGML v1.0//EN
CALSCALE:GREGORIAN
METHOD:PUBLISH
X-WR-CALNAME:QPIRG McGill
X-ORIGINAL-URL:https://qpirgmcgill.org/fr
X-WR-CALDESC:Événements pour QPIRG McGill
REFRESH-INTERVAL;VALUE=DURATION:PT1H
X-Robots-Tag:noindex
X-PUBLISHED-TTL:PT1H
BEGIN:VTIMEZONE
TZID:America/Toronto
BEGIN:DAYLIGHT
TZOFFSETFROM:-0500
TZOFFSETTO:-0400
TZNAME:EDT
DTSTART:20240310T070000
END:DAYLIGHT
BEGIN:STANDARD
TZOFFSETFROM:-0400
TZOFFSETTO:-0500
TZNAME:EST
DTSTART:20241103T060000
END:STANDARD
BEGIN:DAYLIGHT
TZOFFSETFROM:-0500
TZOFFSETTO:-0400
TZNAME:EDT
DTSTART:20250309T070000
END:DAYLIGHT
BEGIN:STANDARD
TZOFFSETFROM:-0400
TZOFFSETTO:-0500
TZNAME:EST
DTSTART:20251102T060000
END:STANDARD
BEGIN:DAYLIGHT
TZOFFSETFROM:-0500
TZOFFSETTO:-0400
TZNAME:EDT
DTSTART:20260308T070000
END:DAYLIGHT
BEGIN:STANDARD
TZOFFSETFROM:-0400
TZOFFSETTO:-0500
TZNAME:EST
DTSTART:20261101T060000
END:STANDARD
END:VTIMEZONE
BEGIN:VEVENT
DTSTART;TZID=America/Toronto:20251030T180000
DTEND;TZID=America/Toronto:20251030T200000
DTSTAMP:20260424T012213
CREATED:20251015T163710Z
LAST-MODIFIED:20251015T163710Z
UID:4991-1761847200-1761854400@qpirgmcgill.org
SUMMARY:WHERE I COME FROM THE GROUND IS RED
DESCRIPTION:WHERE I COME FROM THE GROUND IS RED\nWith Mak Ékoué \nWHERE I COME FROM THE GROUND IS RED is a slow\, attentive\, creative workshop – an exercise in bearing witness to the life of land beyond human intervention. Using simple writing to share intimacies with strangers and create space between wounds\, participants will first share personal experiences and collectively read from a selection of poetic provocations. What follows will take different shapes as each will formulate a response\, process a piece of trauma\, or simply explore a musing in creating a paper zine. We will conclude with a zine exchange. \nMak Ékoué is an artist and design researcher born and raised in Tiohtià:ke (Montréal). Specifically interested in explorations of queerness\, radical care\, and material cultures as they pertain to urban contexts\, all spheres of their work revolve around ideas of memory\, archival\, and cultural references. Their artistic practice\, primarily composed of poetry and zine-making\, is largely comprised of writings about the cherished people\, and multitude of sacred places\, that have cradled them thus far. \nThursday\, October 30th\, 6-8pm\nLeacock 210 (855 rue Sherbrooke O) \n Accessibility: \nBuilding is wheelchair accessible. Gender neutral washroom is on the second floor.
URL:https://qpirgmcgill.org/fr/event/where-i-come-from-the-ground-is-red/
LOCATION:Leacock 210\, 855 rue Sherbrooke O\, Montreal\, Quebec\, Canada
CATEGORIES:Culture Shock 2025
END:VEVENT
END:VCALENDAR