BEGIN:VCALENDAR
VERSION:2.0
PRODID:-//QPIRG McGill - ECPv6.15.20//NONSGML v1.0//EN
CALSCALE:GREGORIAN
METHOD:PUBLISH
X-ORIGINAL-URL:https://qpirgmcgill.org/fr
X-WR-CALDESC:Événements pour QPIRG McGill
REFRESH-INTERVAL;VALUE=DURATION:PT1H
X-Robots-Tag:noindex
X-PUBLISHED-TTL:PT1H
BEGIN:VTIMEZONE
TZID:America/Toronto
BEGIN:DAYLIGHT
TZOFFSETFROM:-0500
TZOFFSETTO:-0400
TZNAME:EDT
DTSTART:20250309T070000
END:DAYLIGHT
BEGIN:STANDARD
TZOFFSETFROM:-0400
TZOFFSETTO:-0500
TZNAME:EST
DTSTART:20251102T060000
END:STANDARD
BEGIN:DAYLIGHT
TZOFFSETFROM:-0500
TZOFFSETTO:-0400
TZNAME:EDT
DTSTART:20260308T070000
END:DAYLIGHT
BEGIN:STANDARD
TZOFFSETFROM:-0400
TZOFFSETTO:-0500
TZNAME:EST
DTSTART:20261101T060000
END:STANDARD
BEGIN:DAYLIGHT
TZOFFSETFROM:-0500
TZOFFSETTO:-0400
TZNAME:EDT
DTSTART:20270314T070000
END:DAYLIGHT
BEGIN:STANDARD
TZOFFSETFROM:-0400
TZOFFSETTO:-0500
TZNAME:EST
DTSTART:20271107T060000
END:STANDARD
END:VTIMEZONE
BEGIN:VEVENT
DTSTART;TZID=America/Toronto:20260319T173000
DTEND;TZID=America/Toronto:20260319T193000
DTSTAMP:20260423T191811
CREATED:20260223T210152Z
LAST-MODIFIED:20260309T195654Z
UID:5192-1773941400-1773948600@qpirgmcgill.org
SUMMARY:Guerrilla Gardening & Seed Bombs 101
DESCRIPTION:Dig into the art and activism of guerrilla gardening with us on March 19\, from 5:30 to 7:30 pm at the Concordia Greenhouse! This hands-on workshop explores how planting in neglected\, public and private urban spaces has been used as a form of resistance that creates beautiful green spaces\, grows food\, and reclaims unused land for and by the community. \nParticipants will explore the intersecting agricultural and land-back resistance movements throughout history\, from Canada and the US to Africa\, Latin America\, and beyond\, grounded in the revolutionary teachings of the Zapatistas and Emiliano Zapata’s “Tierra y Libertad” (Land & Freedom) movement. \nGet your hands dirty making seed bombs\, a guerilla gardening tool\, and discover which seeds work best for different spaces\, taking into account native plants and avoiding invasives. All seed bombs made during the workshop will be ready to take action in your community\, equipping you to plant seeds of beauty wherever they’re needed most. \nRegister for the workshop here \nConcordia Greenhouse \n1455 Blvd. de Maisonneuve Ouest\, 7th floor \nAccessibility: \nThe Concordia Greenhouse is accessible from street level by elevator.
URL:https://qpirgmcgill.org/fr/event/guerrilla-gardening-seed-bombs-101/
LOCATION:Concordia Greenhouse\, 1455 Blvd de Maisonneuve\, 7th floor\, Montreal\, QC\, Canada
CATEGORIES:Spring into Action 2026
ATTACH;FMTTYPE=image/png:https://qpirgmcgill.org/wp-content/uploads/2026/02/2026-02-Spring-into-Action-Graphic-Wide-1920-x-1080px-1.png
END:VEVENT
END:VCALENDAR